BEGIN:VCALENDAR
VERSION:2.0
PRODID:-//https://www.taneycountyrepublicans.org.patriotsaroundthelake.com//NONSGML kigkonsult.se iCalcreator 2.41.71//
CALSCALE:GREGORIAN
METHOD:PUBLISH
UID:65363733-6535-4364-b563-376162363964
X-WR-CALNAME:JCal Pro Calendar
X-WR-CALDESC:Your online events calendar
X-WR-TIMEZONE:America/Chicago
BEGIN:VTIMEZONE
TZID:America/Chicago
TZUNTIL:20271107T070000Z
BEGIN:STANDARD
TZNAME:CST
DTSTART:20251102T020000
TZOFFSETFROM:-0500
TZOFFSETTO:-0600
RDATE:20261101T020000
END:STANDARD
BEGIN:DAYLIGHT
TZNAME:CDT
DTSTART:20260308T020000
TZOFFSETFROM:-0600
TZOFFSETTO:-0500
RDATE:20270314T020000
END:DAYLIGHT
END:VTIMEZONE
BEGIN:VEVENT
UID:20250225T000000UTC-6437gVuLIv@https://taneycountyrepublicans.org/
DTSTAMP:20260422T153458Z
CATEGORIES:This Day in Missouri
DESCRIPTION:<p><span style='font-family: arial\, helvetica\, sans-serif\; f
 ont-size: 12pt\; color: #000000\;'>On February 25\, the following notable 
 historical events related to Missouri occurred:</span></p>\n<ul>\n<li><spa
 n style='font-family: arial\, helvetica\, sans-serif\; font-size: 12pt\; c
 olor: #000000\;'>1806: Zebulon Pike’s expedition\, launched from St. Louis
  to explore the southern Louisiana Purchase\, continued its winter journey
  through the Arkansas River region\, with no specific Missouri event noted
 \, likely due to the season’s quiet pace.</span></li>\n<li><span style='fo
 nt-family: arial\, helvetica\, sans-serif\; font-size: 12pt\; color: #0000
 00\;'>1856: During the “Bleeding Kansas” conflict\, Missouri’s pro-slavery
  “Border Ruffians” sustained raids on Kansas anti-slavery settlers\, clash
 ing violently to influence the territory’s slavery outcome in late Februar
 y.</span></li>\n<li><span style='font-family: arial\, helvetica\, sans-ser
 if\; font-size: 12pt\; color: #000000\;'>1861: Union General Henry W. Hall
 eck\, based in St. Louis\, strengthened Missouri’s federal hold\, while Co
 nfederate guerrillas in rural areas escalated winter attacks\, intensifyin
 g the state’s Civil War divides.</span></li>\n<li><span style='font-family
 : arial\, helvetica\, sans-serif\; font-size: 12pt\; color: #000000\;'>186
 4: Confederate General Sterling Price’s forces\, including Missouri units\
 , regrouped in Arkansas after their failed Missouri campaign\, focusing on
  winter planning with minimal activity in Missouri.</span></li>\n<li><span
  style='font-family: arial\, helvetica\, sans-serif\; font-size: 12pt\; co
 lor: #000000\;'>1888: The Missouri Pacific Railroad’s expansion in southea
 st Missouri\, connecting Cape Girardeau to national markets\, fueled local
  trade\, with operations active as winter neared its end.</span></li>\n<li
 ><span style='font-family: arial\, helvetica\, sans-serif\; font-size: 12p
 t\; color: #000000\;'>1929: Missouri’s cities\, Kansas City and St. Louis\
 , faced the Great Depression’s toll—mass unemployment and business closure
 s—while local relief groups worked to ease late-winter hardships.</span></
 li>\n<li><span style='font-family: arial\, helvetica\, sans-serif\; font-s
 ize: 12pt\; color: #000000\;'>1941: Post-Pearl Harbor\, Missouri’s St. Lou
 is and Kansas City surged in World War II mobilization\, with factories ch
 urning out military goods and enlistment drives gaining momentum.</span></
 li>\n</ul>
DTSTART;TZID=America/Chicago:20250225T000000
DTEND;TZID=America/Chicago:20250225T235959
RRULE:FREQ=YEARLY;COUNT=3;INTERVAL=1
SUMMARY:February 25th This Day in Missouri
URL:https://www.taneycountyrepublicans.org.patriotsaroundthelake.com/odds-n
 -ends/this-week-in-missouri/24-this-day-in-missouri/2557-february-25th-thi
 s-day-in-missouri.html
X-ALT-DESC;FMTTYPE=TEXT/HTML:<p><span style='font-family: arial\, helvetica
 \, sans-serif\; font-size: 12pt\; color: #000000\;'>On February 25\, the f
 ollowing notable historical events related to Missouri occurred:</span></p
 >\n<ul>\n<li><span style='font-family: arial\, helvetica\, sans-serif\; fo
 nt-size: 12pt\; color: #000000\;'>1806: Zebulon Pike’s expedition\, launch
 ed from St. Louis to explore the southern Louisiana Purchase\, continued i
 ts winter journey through the Arkansas River region\, with no specific Mis
 souri event noted\, likely due to the season’s quiet pace.</span></li>\n<l
 i><span style='font-family: arial\, helvetica\, sans-serif\; font-size: 12
 pt\; color: #000000\;'>1856: During the “Bleeding Kansas” conflict\, Misso
 uri’s pro-slavery “Border Ruffians” sustained raids on Kansas anti-slavery
  settlers\, clashing violently to influence the territory’s slavery outcom
 e in late February.</span></li>\n<li><span style='font-family: arial\, hel
 vetica\, sans-serif\; font-size: 12pt\; color: #000000\;'>1861: Union Gene
 ral Henry W. Halleck\, based in St. Louis\, strengthened Missouri’s federa
 l hold\, while Confederate guerrillas in rural areas escalated winter atta
 cks\, intensifying the state’s Civil War divides.</span></li>\n<li><span s
 tyle='font-family: arial\, helvetica\, sans-serif\; font-size: 12pt\; colo
 r: #000000\;'>1864: Confederate General Sterling Price’s forces\, includin
 g Missouri units\, regrouped in Arkansas after their failed Missouri campa
 ign\, focusing on winter planning with minimal activity in Missouri.</span
 ></li>\n<li><span style='font-family: arial\, helvetica\, sans-serif\; fon
 t-size: 12pt\; color: #000000\;'>1888: The Missouri Pacific Railroad’s exp
 ansion in southeast Missouri\, connecting Cape Girardeau to national marke
 ts\, fueled local trade\, with operations active as winter neared its end.
 </span></li>\n<li><span style='font-family: arial\, helvetica\, sans-serif
 \; font-size: 12pt\; color: #000000\;'>1929: Missouri’s cities\, Kansas Ci
 ty and St. Louis\, faced the Great Depression’s toll—mass unemployment and
  business closures—while local relief groups worked to ease late-winter ha
 rdships.</span></li>\n<li><span style='font-family: arial\, helvetica\, sa
 ns-serif\; font-size: 12pt\; color: #000000\;'>1941: Post-Pearl Harbor\, M
 issouri’s St. Louis and Kansas City surged in World War II mobilization\, 
 with factories churning out military goods and enlistment drives gaining m
 omentum.</span></li>\n</ul>
END:VEVENT
END:VCALENDAR
