BEGIN:VCALENDAR
VERSION:2.0
PRODID:-//https://www.taneycountyrepublicans.org.patriotsaroundthelake.com//NONSGML kigkonsult.se iCalcreator 2.41.71//
CALSCALE:GREGORIAN
METHOD:PUBLISH
UID:34303037-6330-4464-a437-653236333563
X-WR-CALNAME:JCal Pro Calendar
X-WR-CALDESC:Your online events calendar
X-WR-TIMEZONE:America/Chicago
BEGIN:VTIMEZONE
TZID:America/Chicago
TZUNTIL:20271107T070000Z
BEGIN:STANDARD
TZNAME:CST
DTSTART:20251102T020000
TZOFFSETFROM:-0500
TZOFFSETTO:-0600
RDATE:20261101T020000
END:STANDARD
BEGIN:DAYLIGHT
TZNAME:CDT
DTSTART:20260308T020000
TZOFFSETFROM:-0600
TZOFFSETTO:-0500
RDATE:20270314T020000
END:DAYLIGHT
END:VTIMEZONE
BEGIN:VEVENT
UID:20251002T000000UTC-6564e0hCtu@https://taneycountyrepublicans.org/
DTSTAMP:20260420T191836Z
CATEGORIES:This Day in Missouri
DESCRIPTION:<p><span style='font-family: arial\, helvetica\, sans-serif\; f
 ont-size: 12pt\; color: #000000\;'>On October 2\, the following notable hi
 storical events related to Missouri occurred:</span></p>\n<ul>\n<li><span 
 style='font-family: arial\, helvetica\, sans-serif\; font-size: 12pt\; col
 or: #000000\;'>1806: The Lewis and Clark Expedition\, having returned to S
 t. Louis in late September\, continued to be celebrated on or around Octob
 er 2\, with local events in St. Louis honoring their exploration of the Lo
 uisiana Purchase\, reinforcing Missouri’s role as a western hub.</span></l
 i>\n<li><span style='font-family: arial\, helvetica\, sans-serif\; font-si
 ze: 12pt\; color: #000000\;'>1857: During the prelude to the Civil War\, t
 ensions over slavery escalated. On or around October 2\, pro-slavery “Bord
 er Ruffians” from Missouri held rallies in Westport to support pro-slavery
  efforts in Kansas\, contributing to the “Bleeding Kansas” conflict.</span
 ></li>\n<li><span style='font-family: arial\, helvetica\, sans-serif\; fon
 t-size: 12pt\; color: #000000\;'>1861: During the Civil War\, Missouri was
  a hotbed of conflict. On or around October 2\, Union forces were regroupi
 ng after the Confederate victory at Lexington\, while Confederate forces u
 nder Sterling Price planned their next moves in the state.</span></li>\n<l
 i><span style='font-family: arial\, helvetica\, sans-serif\; font-size: 12
 pt\; color: #000000\;'>1888: The Missouri Pacific Railroad expanded its ne
 twork through southeast Missouri around October 2\, connecting Cape Girard
 eau to other regions and boosting the state’s economic infrastructure.</sp
 an></li>\n<li><span style='font-family: arial\, helvetica\, sans-serif\; f
 ont-size: 12pt\; color: #000000\;'>1925: The Missouri State Fair in Sedali
 a had recently concluded\, and on or around October 2\, its organizers beg
 an planning for the next year\, reinforcing Missouri’s agricultural herita
 ge.</span></li>\n<li><span style='font-family: arial\, helvetica\, sans-se
 rif\; font-size: 12pt\; color: #000000\;'>2004: The St. Louis Cardinals pl
 ayed a significant game against the Milwaukee Brewers at Busch Stadium on 
 October 2\, with Albert Pujols hitting a game-winning home run\, contribut
 ing to their strong season and Missouri’s baseball legacy.</span></li>\n</
 ul>
DTSTART;TZID=America/Chicago:20251002T000000
DTEND;TZID=America/Chicago:20251002T235959
RRULE:FREQ=YEARLY;COUNT=3;INTERVAL=1
SUMMARY:October 2nd This Day in Missouri
URL:https://www.taneycountyrepublicans.org.patriotsaroundthelake.com/odds-n
 -ends/this-week-in-missouri/24-this-day-in-missouri/2103-october-2nd-this-
 day-in-missouri.html
X-ALT-DESC;FMTTYPE=TEXT/HTML:<p><span style='font-family: arial\, helvetica
 \, sans-serif\; font-size: 12pt\; color: #000000\;'>On October 2\, the fol
 lowing notable historical events related to Missouri occurred:</span></p>
 \n<ul>\n<li><span style='font-family: arial\, helvetica\, sans-serif\; fon
 t-size: 12pt\; color: #000000\;'>1806: The Lewis and Clark Expedition\, ha
 ving returned to St. Louis in late September\, continued to be celebrated 
 on or around October 2\, with local events in St. Louis honoring their exp
 loration of the Louisiana Purchase\, reinforcing Missouri’s role as a west
 ern hub.</span></li>\n<li><span style='font-family: arial\, helvetica\, sa
 ns-serif\; font-size: 12pt\; color: #000000\;'>1857: During the prelude to
  the Civil War\, tensions over slavery escalated. On or around October 2\,
  pro-slavery “Border Ruffians” from Missouri held rallies in Westport to s
 upport pro-slavery efforts in Kansas\, contributing to the “Bleeding Kansa
 s” conflict.</span></li>\n<li><span style='font-family: arial\, helvetica\
 , sans-serif\; font-size: 12pt\; color: #000000\;'>1861: During the Civil 
 War\, Missouri was a hotbed of conflict. On or around October 2\, Union fo
 rces were regrouping after the Confederate victory at Lexington\, while Co
 nfederate forces under Sterling Price planned their next moves in the stat
 e.</span></li>\n<li><span style='font-family: arial\, helvetica\, sans-ser
 if\; font-size: 12pt\; color: #000000\;'>1888: The Missouri Pacific Railro
 ad expanded its network through southeast Missouri around October 2\, conn
 ecting Cape Girardeau to other regions and boosting the state’s economic i
 nfrastructure.</span></li>\n<li><span style='font-family: arial\, helvetic
 a\, sans-serif\; font-size: 12pt\; color: #000000\;'>1925: The Missouri St
 ate Fair in Sedalia had recently concluded\, and on or around October 2\, 
 its organizers began planning for the next year\, reinforcing Missouri’s a
 gricultural heritage.</span></li>\n<li><span style='font-family: arial\, h
 elvetica\, sans-serif\; font-size: 12pt\; color: #000000\;'>2004: The St. 
 Louis Cardinals played a significant game against the Milwaukee Brewers at
  Busch Stadium on October 2\, with Albert Pujols hitting a game-winning ho
 me run\, contributing to their strong season and Missouri’s baseball legac
 y.</span></li>\n</ul>
END:VEVENT
END:VCALENDAR
