BEGIN:VCALENDAR
VERSION:2.0
PRODID:-//https://www.taneycountyrepublicans.org.patriotsaroundthelake.com//NONSGML kigkonsult.se iCalcreator 2.41.71//
CALSCALE:GREGORIAN
METHOD:PUBLISH
UID:63663361-6530-4466-b833-376664623466
X-WR-CALNAME:JCal Pro Calendar
X-WR-CALDESC:Your online events calendar
X-WR-TIMEZONE:America/Chicago
BEGIN:VTIMEZONE
TZID:America/Chicago
TZUNTIL:20271107T070000Z
BEGIN:STANDARD
TZNAME:CST
DTSTART:20251102T020000
TZOFFSETFROM:-0500
TZOFFSETTO:-0600
RDATE:20261101T020000
END:STANDARD
BEGIN:DAYLIGHT
TZNAME:CDT
DTSTART:20260308T020000
TZOFFSETFROM:-0600
TZOFFSETTO:-0500
RDATE:20270314T020000
END:DAYLIGHT
END:VTIMEZONE
BEGIN:VEVENT
UID:20251001T000000UTC-16005RfMJb@https://taneycountyrepublicans.org/
DTSTAMP:20260420T155448Z
CATEGORIES:This Day in Missouri
DESCRIPTION:<p><span style='font-family: arial\, helvetica\, sans-serif\; f
 ont-size: 12pt\; color: #000000\;'>On October 1\, the following notable hi
 storical events related to Missouri occurred:</span></p>\n<ul>\n<li><span 
 style='font-family: arial\, helvetica\, sans-serif\; font-size: 12pt\; col
 or: #000000\;'>1806: The Lewis and Clark Expedition\, having returned to S
 t. Louis in late September\, was still celebrated on or around October 1\,
  with local festivities in St. Louis honoring their exploration of the Lou
 isiana Purchase\, reinforcing Missouri’s role as a western hub.</span></li
 >\n<li><span style='font-family: arial\, helvetica\, sans-serif\; font-siz
 e: 12pt\; color: #000000\;'>1856: During the “Bleeding Kansas” conflict\, 
 pro-slavery “Border Ruffians” from Missouri were active on or around Octob
 er 1\, crossing into Kansas to disrupt anti-slavery efforts\, escalating v
 iolence and highlighting Missouri’s role in the national slavery debate.</
 span></li>\n<li><span style='font-family: arial\, helvetica\, sans-serif\;
  font-size: 12pt\; color: #000000\;'>1861: During the Civil War\, Missouri
  remained a battleground. On or around October 1\, Confederate forces unde
 r Sterling Price\, after their victory at Lexington\, were regrouping\, wh
 ile Union forces planned counteroffensives to regain control in the state.
 </span></li>\n<li><span style='font-family: arial\, helvetica\, sans-serif
 \; font-size: 12pt\; color: #000000\;'>1883: The Missouri Botanical Garden
  in St. Louis hosted a major public exhibition around October 1\, showcasi
 ng rare plant species and reinforcing its status as a leading botanical re
 search center.</span></li>\n<li><span style='font-family: arial\, helvetic
 a\, sans-serif\; font-size: 12pt\; color: #000000\;'>1933: The Great Depre
 ssion impacted Missouri\, and on or around October 1\, New Deal-funded Wor
 ks Progress Administration projects began in Kansas City\, constructing pu
 blic infrastructure to provide jobs and stimulate the economy.</span></li>
 \n<li><span style='font-family: arial\, helvetica\, sans-serif\; font-size
 : 12pt\; color: #000000\;'>2004: The St. Louis Cardinals played a signific
 ant game against the Milwaukee Brewers at Busch Stadium on October 1\, wit
 h Albert Pujols hitting a key home run\, contributing to their strong seas
 on and Missouri’s baseball legacy.</span></li>\n</ul>\n<p><span style='fon
 t-family: arial\, helvetica\, sans-serif\; font-size: 12pt\; color: #00000
 0\;'>If you want more events\, a specific focus\, or another date\, let me
  know!</span></p>
DTSTART;TZID=America/Chicago:20251001T000000
DTEND;TZID=America/Chicago:20251001T235959
RRULE:FREQ=YEARLY;COUNT=3;INTERVAL=1
SUMMARY:October 1st This Day in Missouri
URL:https://www.taneycountyrepublicans.org.patriotsaroundthelake.com/odds-n
 -ends/this-week-in-missouri/24-this-day-in-missouri/2100-october-1st-this-
 day-in-missouri.html
X-ALT-DESC;FMTTYPE=TEXT/HTML:<p><span style='font-family: arial\, helvetica
 \, sans-serif\; font-size: 12pt\; color: #000000\;'>On October 1\, the fol
 lowing notable historical events related to Missouri occurred:</span></p>
 \n<ul>\n<li><span style='font-family: arial\, helvetica\, sans-serif\; fon
 t-size: 12pt\; color: #000000\;'>1806: The Lewis and Clark Expedition\, ha
 ving returned to St. Louis in late September\, was still celebrated on or 
 around October 1\, with local festivities in St. Louis honoring their expl
 oration of the Louisiana Purchase\, reinforcing Missouri’s role as a weste
 rn hub.</span></li>\n<li><span style='font-family: arial\, helvetica\, san
 s-serif\; font-size: 12pt\; color: #000000\;'>1856: During the “Bleeding K
 ansas” conflict\, pro-slavery “Border Ruffians” from Missouri were active 
 on or around October 1\, crossing into Kansas to disrupt anti-slavery effo
 rts\, escalating violence and highlighting Missouri’s role in the national
  slavery debate.</span></li>\n<li><span style='font-family: arial\, helvet
 ica\, sans-serif\; font-size: 12pt\; color: #000000\;'>1861: During the Ci
 vil War\, Missouri remained a battleground. On or around October 1\, Confe
 derate forces under Sterling Price\, after their victory at Lexington\, we
 re regrouping\, while Union forces planned counteroffensives to regain con
 trol in the state.</span></li>\n<li><span style='font-family: arial\, helv
 etica\, sans-serif\; font-size: 12pt\; color: #000000\;'>1883: The Missour
 i Botanical Garden in St. Louis hosted a major public exhibition around Oc
 tober 1\, showcasing rare plant species and reinforcing its status as a le
 ading botanical research center.</span></li>\n<li><span style='font-family
 : arial\, helvetica\, sans-serif\; font-size: 12pt\; color: #000000\;'>193
 3: The Great Depression impacted Missouri\, and on or around October 1\, N
 ew Deal-funded Works Progress Administration projects began in Kansas City
 \, constructing public infrastructure to provide jobs and stimulate the ec
 onomy.</span></li>\n<li><span style='font-family: arial\, helvetica\, sans
 -serif\; font-size: 12pt\; color: #000000\;'>2004: The St. Louis Cardinals
  played a significant game against the Milwaukee Brewers at Busch Stadium 
 on October 1\, with Albert Pujols hitting a key home run\, contributing to
  their strong season and Missouri’s baseball legacy.</span></li>\n</ul>\n<
 p><span style='font-family: arial\, helvetica\, sans-serif\; font-size: 12
 pt\; color: #000000\;'>If you want more events\, a specific focus\, or ano
 ther date\, let me know!</span></p>
END:VEVENT
END:VCALENDAR
