BEGIN:VCALENDAR
VERSION:2.0
PRODID:-//https://www.taneycountyrepublicans.org.patriotsaroundthelake.com//NONSGML kigkonsult.se iCalcreator 2.41.71//
CALSCALE:GREGORIAN
METHOD:PUBLISH
UID:32633266-6465-4561-b636-306563643438
X-WR-CALNAME:JCal Pro Calendar
X-WR-CALDESC:Your online events calendar
X-WR-TIMEZONE:America/Chicago
BEGIN:VTIMEZONE
TZID:America/Chicago
TZUNTIL:20271107T070000Z
BEGIN:STANDARD
TZNAME:CST
DTSTART:20251102T020000
TZOFFSETFROM:-0500
TZOFFSETTO:-0600
RDATE:20261101T020000
END:STANDARD
BEGIN:DAYLIGHT
TZNAME:CDT
DTSTART:20260308T020000
TZOFFSETFROM:-0600
TZOFFSETTO:-0500
RDATE:20270314T020000
END:DAYLIGHT
END:VTIMEZONE
BEGIN:VEVENT
UID:20250930T000000UTC-3674K73b6E@https://taneycountyrepublicans.org/
DTSTAMP:20260420T174212Z
CATEGORIES:This Day in Missouri
DESCRIPTION:<p><span style='font-family: arial\, helvetica\, sans-serif\; f
 ont-size: 12pt\; color: #000000\;'>On September 30\, the following notable
  historical events related to Missouri occurred:</span></p>\n<ul>\n<li><sp
 an style='font-family: arial\, helvetica\, sans-serif\; font-size: 12pt\; 
 color: #000000\;'>1806: The Lewis and Clark Expedition\, having returned t
 o St. Louis earlier in September\, was still being celebrated on or around
  September 30\, with ongoing festivities in St. Louis honoring their explo
 ration of the Louisiana Purchase\, reinforcing Missouri’s role as a wester
 n hub.</span></li>\n<li><span style='font-family: arial\, helvetica\, sans
 -serif\; font-size: 12pt\; color: #000000\;'>1857: During the prelude to t
 he Civil War\, tensions over slavery were high. On or around September 30\
 , pro-slavery groups in St. Louis organized meetings to counter abolitioni
 st efforts\, reflecting Missouri’s divided stance in the national debate.<
 /span></li>\n<li><span style='font-family: arial\, helvetica\, sans-serif\
 ; font-size: 12pt\; color: #000000\;'>1861: During the Civil War\, the aft
 ermath of the First Battle of Lexington (September 20) continued in Missou
 ri. On September 30\, Confederate forces under Sterling Price were organiz
 ing their control over Lexington\, solidifying their strategic position in
  the state.</span></li>\n<li><span style='font-family: arial\, helvetica\,
  sans-serif\; font-size: 12pt\; color: #000000\;'>1890: The St. Louis-base
 d Anheuser-Busch brewery expanded its bottling operations around September
  30\, enhancing Budweiser’s national distribution and reinforcing Missouri
 ’s prominence in the brewing industry.</span></li>\n<li><span style='font-
 family: arial\, helvetica\, sans-serif\; font-size: 12pt\; color: #000000\
 ;'>1927: The Kansas City Stockyards processed a record number of livestock
  around September 30\, underscoring Kansas City’s role as a major agricult
 ural hub and boosting Missouri’s economy.</span></li>\n<li><span style='fo
 nt-family: arial\, helvetica\, sans-serif\; font-size: 12pt\; color: #0000
 00\;'>1998: The St. Louis Cardinals played a significant game against the 
 Montreal Expos at Busch Stadium on September 30\, with Mark McGwire hittin
 g his final home run of the season\, ending with a record-breaking 70\, ce
 menting Missouri’s baseball legacy.</span></li>\n</ul>
DTSTART;TZID=America/Chicago:20250930T000000
DTEND;TZID=America/Chicago:20250930T235959
RRULE:FREQ=YEARLY;COUNT=3;INTERVAL=1
SUMMARY:September 30th This Day in Missouri
URL:https://www.taneycountyrepublicans.org.patriotsaroundthelake.com/odds-n
 -ends/this-week-in-missouri/24-this-day-in-missouri/2097-september-30th-th
 is-day-in-missouri.html
X-ALT-DESC;FMTTYPE=TEXT/HTML:<p><span style='font-family: arial\, helvetica
 \, sans-serif\; font-size: 12pt\; color: #000000\;'>On September 30\, the 
 following notable historical events related to Missouri occurred:</span></
 p>\n<ul>\n<li><span style='font-family: arial\, helvetica\, sans-serif\; f
 ont-size: 12pt\; color: #000000\;'>1806: The Lewis and Clark Expedition\, 
 having returned to St. Louis earlier in September\, was still being celebr
 ated on or around September 30\, with ongoing festivities in St. Louis hon
 oring their exploration of the Louisiana Purchase\, reinforcing Missouri’s
  role as a western hub.</span></li>\n<li><span style='font-family: arial\,
  helvetica\, sans-serif\; font-size: 12pt\; color: #000000\;'>1857: During
  the prelude to the Civil War\, tensions over slavery were high. On or aro
 und September 30\, pro-slavery groups in St. Louis organized meetings to c
 ounter abolitionist efforts\, reflecting Missouri’s divided stance in the 
 national debate.</span></li>\n<li><span style='font-family: arial\, helvet
 ica\, sans-serif\; font-size: 12pt\; color: #000000\;'>1861: During the Ci
 vil War\, the aftermath of the First Battle of Lexington (September 20) co
 ntinued in Missouri. On September 30\, Confederate forces under Sterling P
 rice were organizing their control over Lexington\, solidifying their stra
 tegic position in the state.</span></li>\n<li><span style='font-family: ar
 ial\, helvetica\, sans-serif\; font-size: 12pt\; color: #000000\;'>1890: T
 he St. Louis-based Anheuser-Busch brewery expanded its bottling operations
  around September 30\, enhancing Budweiser’s national distribution and rei
 nforcing Missouri’s prominence in the brewing industry.</span></li>\n<li><
 span style='font-family: arial\, helvetica\, sans-serif\; font-size: 12pt\
 ; color: #000000\;'>1927: The Kansas City Stockyards processed a record nu
 mber of livestock around September 30\, underscoring Kansas City’s role as
  a major agricultural hub and boosting Missouri’s economy.</span></li>\n<l
 i><span style='font-family: arial\, helvetica\, sans-serif\; font-size: 12
 pt\; color: #000000\;'>1998: The St. Louis Cardinals played a significant 
 game against the Montreal Expos at Busch Stadium on September 30\, with Ma
 rk McGwire hitting his final home run of the season\, ending with a record
 -breaking 70\, cementing Missouri’s baseball legacy.</span></li>\n</ul>
END:VEVENT
END:VCALENDAR
