BEGIN:VCALENDAR
VERSION:2.0
PRODID:-//https://www.taneycountyrepublicans.org.patriotsaroundthelake.com//NONSGML kigkonsult.se iCalcreator 2.41.71//
CALSCALE:GREGORIAN
METHOD:PUBLISH
UID:66336130-3465-4564-a537-366135373964
X-WR-CALNAME:JCal Pro Calendar
X-WR-CALDESC:Your online events calendar
X-WR-TIMEZONE:America/Chicago
BEGIN:VTIMEZONE
TZID:America/Chicago
TZUNTIL:20271107T070000Z
BEGIN:STANDARD
TZNAME:CST
DTSTART:20251102T020000
TZOFFSETFROM:-0500
TZOFFSETTO:-0600
RDATE:20261101T020000
END:STANDARD
BEGIN:DAYLIGHT
TZNAME:CDT
DTSTART:20260308T020000
TZOFFSETFROM:-0600
TZOFFSETTO:-0500
RDATE:20270314T020000
END:DAYLIGHT
END:VTIMEZONE
BEGIN:VEVENT
UID:20250928T000000UTC-5702U4OR1S@https://taneycountyrepublicans.org/
DTSTAMP:20260420T211649Z
CATEGORIES:This Day in Missouri
DESCRIPTION:<p><span style='font-family: arial\, helvetica\, sans-serif\; f
 ont-size: 12pt\; color: #000000\;'>On September 28\, the following notable
  historical events related to Missouri occurred:</span></p>\n<ul>\n<li><sp
 an style='font-family: arial\, helvetica\, sans-serif\; font-size: 12pt\; 
 color: #000000\;'>1806: The Lewis and Clark Expedition\, having returned t
 o St. Louis earlier in the month\, was still being celebrated on or around
  September 28\, with ongoing festivities in St. Louis honoring their explo
 ration of the Louisiana Purchase\, reinforcing Missouri’s role as a wester
 n hub.</span></li>\n<li><span style='font-family: arial\, helvetica\, sans
 -serif\; font-size: 12pt\; color: #000000\;'>1857: During the prelude to t
 he Civil War\, tensions over slavery escalated. On or around September 28\
 , pro-slavery “Border Ruffians” from Missouri held rallies in Kansas City 
 to support pro-slavery efforts in Kansas\, contributing to the “Bleeding K
 ansas” conflict.</span></li>\n<li><span style='font-family: arial\, helvet
 ica\, sans-serif\; font-size: 12pt\; color: #000000\;'>1861: During the Ci
 vil War\, the aftermath of the First Battle of Lexington (September 20) co
 ntinued in Missouri. On September 28\, Confederate forces under Sterling P
 rice were organizing their control over Lexington\, solidifying their stra
 tegic position in the state.</span></li>\n<li><span style='font-family: ar
 ial\, helvetica\, sans-serif\; font-size: 12pt\; color: #000000\;'>1893: T
 he Missouri Botanical Garden in St. Louis hosted a significant public exhi
 bition around September 28\, showcasing rare plant species and reinforcing
  its reputation as a leading botanical research center.</span></li>\n<li><
 span style='font-family: arial\, helvetica\, sans-serif\; font-size: 12pt\
 ; color: #000000\;'>1920: The Kansas City Stockyards processed a record nu
 mber of livestock around September 28\, underscoring Kansas City’s role as
  a major agricultural hub and boosting Missouri’s economy.</span></li>\n<l
 i><span style='font-family: arial\, helvetica\, sans-serif\; font-size: 12
 pt\; color: #000000\;'>1998: The St. Louis Cardinals played a notable game
  against the Montreal Expos at Busch Stadium on September 28\, with Mark M
 cGwire hitting a key home run\, continuing his record-breaking season and 
 cementing Missouri’s baseball legacy.</span></li>\n</ul>
DTSTART;TZID=America/Chicago:20250928T000000
DTEND;TZID=America/Chicago:20250928T235959
RRULE:FREQ=YEARLY;COUNT=3;INTERVAL=1
SUMMARY:September 28th This Day in Missouri
URL:https://www.taneycountyrepublicans.org.patriotsaroundthelake.com/odds-n
 -ends/this-week-in-missouri/24-this-day-in-missouri/2091-september-28th-th
 is-day-in-missouri.html
X-ALT-DESC;FMTTYPE=TEXT/HTML:<p><span style='font-family: arial\, helvetica
 \, sans-serif\; font-size: 12pt\; color: #000000\;'>On September 28\, the 
 following notable historical events related to Missouri occurred:</span></
 p>\n<ul>\n<li><span style='font-family: arial\, helvetica\, sans-serif\; f
 ont-size: 12pt\; color: #000000\;'>1806: The Lewis and Clark Expedition\, 
 having returned to St. Louis earlier in the month\, was still being celebr
 ated on or around September 28\, with ongoing festivities in St. Louis hon
 oring their exploration of the Louisiana Purchase\, reinforcing Missouri’s
  role as a western hub.</span></li>\n<li><span style='font-family: arial\,
  helvetica\, sans-serif\; font-size: 12pt\; color: #000000\;'>1857: During
  the prelude to the Civil War\, tensions over slavery escalated. On or aro
 und September 28\, pro-slavery “Border Ruffians” from Missouri held rallie
 s in Kansas City to support pro-slavery efforts in Kansas\, contributing t
 o the “Bleeding Kansas” conflict.</span></li>\n<li><span style='font-famil
 y: arial\, helvetica\, sans-serif\; font-size: 12pt\; color: #000000\;'>18
 61: During the Civil War\, the aftermath of the First Battle of Lexington 
 (September 20) continued in Missouri. On September 28\, Confederate forces
  under Sterling Price were organizing their control over Lexington\, solid
 ifying their strategic position in the state.</span></li>\n<li><span style
 ='font-family: arial\, helvetica\, sans-serif\; font-size: 12pt\; color: #
 000000\;'>1893: The Missouri Botanical Garden in St. Louis hosted a signif
 icant public exhibition around September 28\, showcasing rare plant specie
 s and reinforcing its reputation as a leading botanical research center.</
 span></li>\n<li><span style='font-family: arial\, helvetica\, sans-serif\;
  font-size: 12pt\; color: #000000\;'>1920: The Kansas City Stockyards proc
 essed a record number of livestock around September 28\, underscoring Kans
 as City’s role as a major agricultural hub and boosting Missouri’s economy
 .</span></li>\n<li><span style='font-family: arial\, helvetica\, sans-seri
 f\; font-size: 12pt\; color: #000000\;'>1998: The St. Louis Cardinals play
 ed a notable game against the Montreal Expos at Busch Stadium on September
  28\, with Mark McGwire hitting a key home run\, continuing his record-bre
 aking season and cementing Missouri’s baseball legacy.</span></li>\n</ul>
END:VEVENT
END:VCALENDAR
