BEGIN:VCALENDAR
VERSION:2.0
PRODID:-//https://www.taneycountyrepublicans.org.patriotsaroundthelake.com//NONSGML kigkonsult.se iCalcreator 2.41.71//
CALSCALE:GREGORIAN
METHOD:PUBLISH
UID:65353730-3133-4037-b464-393537346665
X-WR-CALNAME:JCal Pro Calendar
X-WR-CALDESC:Your online events calendar
X-WR-TIMEZONE:America/Chicago
BEGIN:VTIMEZONE
TZID:America/Chicago
TZUNTIL:20271107T070000Z
BEGIN:STANDARD
TZNAME:CST
DTSTART:20251102T020000
TZOFFSETFROM:-0500
TZOFFSETTO:-0600
RDATE:20261101T020000
END:STANDARD
BEGIN:DAYLIGHT
TZNAME:CDT
DTSTART:20260308T020000
TZOFFSETFROM:-0600
TZOFFSETTO:-0500
RDATE:20270314T020000
END:DAYLIGHT
END:VTIMEZONE
BEGIN:VEVENT
UID:20250927T000000UTC-8496046bjB@https://taneycountyrepublicans.org/
DTSTAMP:20260420T225801Z
CATEGORIES:This Day in Missouri
DESCRIPTION:<p><span style='font-family: arial\, helvetica\, sans-serif\; f
 ont-size: 12pt\; color: #000000\;'>On September 27\, the following notable
  historical events related to Missouri occurred:</span></p>\n<ul>\n<li><sp
 an style='font-family: arial\, helvetica\, sans-serif\; font-size: 12pt\; 
 color: #000000\;'>1806: The Lewis and Clark Expedition\, having returned t
 o St. Louis a few days prior\, was still being celebrated on or around Sep
 tember 27\, with local events in St. Louis honoring their exploration of t
 he Louisiana Purchase\, reinforcing Missouri’s role as a western hub.</spa
 n></li>\n<li><span style='font-family: arial\, helvetica\, sans-serif\; fo
 nt-size: 12pt\; color: #000000\;'>1855: During the “Bleeding Kansas” prelu
 de\, pro-slavery Missourians\, known as “Border Ruffians\,” were active on
  or around September 27\, organizing in Westport to influence Kansas Terri
 tory politics\, escalating tensions in the region.</span></li>\n<li><span 
 style='font-family: arial\, helvetica\, sans-serif\; font-size: 12pt\; col
 or: #000000\;'>1861: During the Civil War\, the aftermath of the First Bat
 tle of Lexington (September 20) was ongoing in Missouri. On September 27\,
  Confederate forces under Sterling Price were consolidating their victory 
 in Lexington\, strengthening their hold in the state.</span></li>\n<li><sp
 an style='font-family: arial\, helvetica\, sans-serif\; font-size: 12pt\; 
 color: #000000\;'>1888: The St. Louis-based Anheuser-Busch brewery began e
 xpanding its refrigerated shipping operations around September 27\, enabli
 ng broader distribution of Budweiser and reinforcing Missouri’s prominence
  in the brewing industry.</span></li>\n<li><span style='font-family: arial
 \, helvetica\, sans-serif\; font-size: 12pt\; color: #000000\;'>1933: The 
 Great Depression affected Missouri\, and on or around September 27\, New D
 eal-funded projects in St. Louis began constructing public infrastructure\
 , providing jobs and economic relief.</span></li>\n<li><span style='font-f
 amily: arial\, helvetica\, sans-serif\; font-size: 12pt\; color: #000000\;
 '>2004: The St. Louis Cardinals played a significant game against the Colo
 rado Rockies at Busch Stadium on September 27\, with Albert Pujols hitting
  a crucial home run\, contributing to their strong season and Missouri’s b
 aseball legacy.</span></li>\n</ul>
DTSTART;TZID=America/Chicago:20250927T000000
DTEND;TZID=America/Chicago:20250927T235959
RRULE:FREQ=YEARLY;COUNT=3;INTERVAL=1
SUMMARY:September 27th This Day in Missouri
URL:https://www.taneycountyrepublicans.org.patriotsaroundthelake.com/odds-n
 -ends/this-week-in-missouri/24-this-day-in-missouri/2080-september-27th-th
 is-day-in-missouri.html
X-ALT-DESC;FMTTYPE=TEXT/HTML:<p><span style='font-family: arial\, helvetica
 \, sans-serif\; font-size: 12pt\; color: #000000\;'>On September 27\, the 
 following notable historical events related to Missouri occurred:</span></
 p>\n<ul>\n<li><span style='font-family: arial\, helvetica\, sans-serif\; f
 ont-size: 12pt\; color: #000000\;'>1806: The Lewis and Clark Expedition\, 
 having returned to St. Louis a few days prior\, was still being celebrated
  on or around September 27\, with local events in St. Louis honoring their
  exploration of the Louisiana Purchase\, reinforcing Missouri’s role as a 
 western hub.</span></li>\n<li><span style='font-family: arial\, helvetica\
 , sans-serif\; font-size: 12pt\; color: #000000\;'>1855: During the “Bleed
 ing Kansas” prelude\, pro-slavery Missourians\, known as “Border Ruffians\
 ,” were active on or around September 27\, organizing in Westport to influ
 ence Kansas Territory politics\, escalating tensions in the region.</span>
 </li>\n<li><span style='font-family: arial\, helvetica\, sans-serif\; font
 -size: 12pt\; color: #000000\;'>1861: During the Civil War\, the aftermath
  of the First Battle of Lexington (September 20) was ongoing in Missouri. 
 On September 27\, Confederate forces under Sterling Price were consolidati
 ng their victory in Lexington\, strengthening their hold in the state.</sp
 an></li>\n<li><span style='font-family: arial\, helvetica\, sans-serif\; f
 ont-size: 12pt\; color: #000000\;'>1888: The St. Louis-based Anheuser-Busc
 h brewery began expanding its refrigerated shipping operations around Sept
 ember 27\, enabling broader distribution of Budweiser and reinforcing Miss
 ouri’s prominence in the brewing industry.</span></li>\n<li><span style='f
 ont-family: arial\, helvetica\, sans-serif\; font-size: 12pt\; color: #000
 000\;'>1933: The Great Depression affected Missouri\, and on or around Sep
 tember 27\, New Deal-funded projects in St. Louis began constructing publi
 c infrastructure\, providing jobs and economic relief.</span></li>\n<li><s
 pan style='font-family: arial\, helvetica\, sans-serif\; font-size: 12pt\;
  color: #000000\;'>2004: The St. Louis Cardinals played a significant game
  against the Colorado Rockies at Busch Stadium on September 27\, with Albe
 rt Pujols hitting a crucial home run\, contributing to their strong season
  and Missouri’s baseball legacy.</span></li>\n</ul>
END:VEVENT
END:VCALENDAR
