BEGIN:VCALENDAR
VERSION:2.0
PRODID:-//https://www.taneycountyrepublicans.org.patriotsaroundthelake.com//NONSGML kigkonsult.se iCalcreator 2.41.71//
CALSCALE:GREGORIAN
METHOD:PUBLISH
UID:36393063-3263-4962-b932-383731383966
X-WR-CALNAME:JCal Pro Calendar
X-WR-CALDESC:Your online events calendar
X-WR-TIMEZONE:America/Chicago
BEGIN:VTIMEZONE
TZID:America/Chicago
TZUNTIL:20271107T070000Z
BEGIN:STANDARD
TZNAME:CST
DTSTART:20251102T020000
TZOFFSETFROM:-0500
TZOFFSETTO:-0600
RDATE:20261101T020000
END:STANDARD
BEGIN:DAYLIGHT
TZNAME:CDT
DTSTART:20260308T020000
TZOFFSETFROM:-0600
TZOFFSETTO:-0500
RDATE:20270314T020000
END:DAYLIGHT
END:VTIMEZONE
BEGIN:VEVENT
UID:20250923T000000UTC-63089xk5Gp@https://taneycountyrepublicans.org/
DTSTAMP:20260422T160143Z
CATEGORIES:This Day in Missouri
DESCRIPTION:<p><span style='font-family: arial\, helvetica\, sans-serif\; f
 ont-size: 12pt\; color: #000000\;'>On September 23\, the following notable
  historical events related to Missouri occurred:</span></p>\n<ul>\n<li><sp
 an style='font-family: arial\, helvetica\, sans-serif\; font-size: 12pt\; 
 color: #000000\;'>1806: The Lewis and Clark Expedition officially returned
  to St. Louis on September 23\, completing their exploration of the Louisi
 ana Purchase. Their arrival was celebrated\, reinforcing Missouri’s role a
 s the gateway to the West.</span></li>\n<li><span style='font-family: aria
 l\, helvetica\, sans-serif\; font-size: 12pt\; color: #000000\;'>1850: The
  Compromise of 1850\, affecting Missouri as a slave state\, was being impl
 emented around September 23. It intensified debates over slavery in St. Lo
 uis\, reflecting Missouri’s position in national tensions.</span></li>\n<l
 i><span style='font-family: arial\, helvetica\, sans-serif\; font-size: 12
 pt\; color: #000000\;'>1861: During the Civil War\, the aftermath of the F
 irst Battle of Lexington (September 20) was ongoing in Missouri. On Septem
 ber 23\, Confederate forces under Sterling Price were consolidating their 
 victory in Lexington\, strengthening their hold in the state.</span></li>
 \n<li><span style='font-family: arial\, helvetica\, sans-serif\; font-size
 : 12pt\; color: #000000\;'>1888: The Missouri Pacific Railroad expanded it
 s network through southeast Missouri around September 23\, connecting Cape
  Girardeau to other regions and boosting the state’s economic infrastructu
 re.</span></li>\n<li><span style='font-family: arial\, helvetica\, sans-se
 rif\; font-size: 12pt\; color: #000000\;'>1933: The Great Depression impac
 ted Missouri\, and on or around September 23\, New Deal-funded projects in
  Kansas City began constructing public works\, providing jobs and economic
  relief.</span></li>\n<li><span style='font-family: arial\, helvetica\, sa
 ns-serif\; font-size: 12pt\; color: #000000\;'>2004: The St. Louis Cardina
 ls played a significant game against the Milwaukee Brewers at Busch Stadiu
 m on September 23\, with Albert Pujols hitting a game-winning home run\, c
 ontributing to their strong season and Missouri’s baseball legacy.</span><
 /li>\n</ul>
DTSTART;TZID=America/Chicago:20250923T000000
DTEND;TZID=America/Chicago:20250923T235959
RRULE:FREQ=YEARLY;COUNT=3;INTERVAL=1
SUMMARY:September 23rd This Day in Missouri
URL:https://www.taneycountyrepublicans.org.patriotsaroundthelake.com/odds-n
 -ends/this-week-in-missouri/24-this-day-in-missouri/2071-september-23rd-th
 is-day-in-missouri.html
X-ALT-DESC;FMTTYPE=TEXT/HTML:<p><span style='font-family: arial\, helvetica
 \, sans-serif\; font-size: 12pt\; color: #000000\;'>On September 23\, the 
 following notable historical events related to Missouri occurred:</span></
 p>\n<ul>\n<li><span style='font-family: arial\, helvetica\, sans-serif\; f
 ont-size: 12pt\; color: #000000\;'>1806: The Lewis and Clark Expedition of
 ficially returned to St. Louis on September 23\, completing their explorat
 ion of the Louisiana Purchase. Their arrival was celebrated\, reinforcing 
 Missouri’s role as the gateway to the West.</span></li>\n<li><span style='
 font-family: arial\, helvetica\, sans-serif\; font-size: 12pt\; color: #00
 0000\;'>1850: The Compromise of 1850\, affecting Missouri as a slave state
 \, was being implemented around September 23. It intensified debates over 
 slavery in St. Louis\, reflecting Missouri’s position in national tensions
 .</span></li>\n<li><span style='font-family: arial\, helvetica\, sans-seri
 f\; font-size: 12pt\; color: #000000\;'>1861: During the Civil War\, the a
 ftermath of the First Battle of Lexington (September 20) was ongoing in Mi
 ssouri. On September 23\, Confederate forces under Sterling Price were con
 solidating their victory in Lexington\, strengthening their hold in the st
 ate.</span></li>\n<li><span style='font-family: arial\, helvetica\, sans-s
 erif\; font-size: 12pt\; color: #000000\;'>1888: The Missouri Pacific Rail
 road expanded its network through southeast Missouri around September 23\,
  connecting Cape Girardeau to other regions and boosting the state’s econo
 mic infrastructure.</span></li>\n<li><span style='font-family: arial\, hel
 vetica\, sans-serif\; font-size: 12pt\; color: #000000\;'>1933: The Great 
 Depression impacted Missouri\, and on or around September 23\, New Deal-fu
 nded projects in Kansas City began constructing public works\, providing j
 obs and economic relief.</span></li>\n<li><span style='font-family: arial\
 , helvetica\, sans-serif\; font-size: 12pt\; color: #000000\;'>2004: The S
 t. Louis Cardinals played a significant game against the Milwaukee Brewers
  at Busch Stadium on September 23\, with Albert Pujols hitting a game-winn
 ing home run\, contributing to their strong season and Missouri’s baseball
  legacy.</span></li>\n</ul>
END:VEVENT
END:VCALENDAR
