BEGIN:VCALENDAR
VERSION:2.0
PRODID:-//https://www.taneycountyrepublicans.org.patriotsaroundthelake.com//NONSGML kigkonsult.se iCalcreator 2.41.71//
CALSCALE:GREGORIAN
METHOD:PUBLISH
UID:61623266-6162-4865-b136-343061363436
X-WR-CALNAME:JCal Pro Calendar
X-WR-CALDESC:Your online events calendar
X-WR-TIMEZONE:America/Chicago
BEGIN:VTIMEZONE
TZID:America/Chicago
TZUNTIL:20271107T070000Z
BEGIN:STANDARD
TZNAME:CST
DTSTART:20251102T020000
TZOFFSETFROM:-0500
TZOFFSETTO:-0600
RDATE:20261101T020000
END:STANDARD
BEGIN:DAYLIGHT
TZNAME:CDT
DTSTART:20260308T020000
TZOFFSETFROM:-0600
TZOFFSETTO:-0500
RDATE:20270314T020000
END:DAYLIGHT
END:VTIMEZONE
BEGIN:VEVENT
UID:20250919T000000UTC-6815PwDdv7@https://taneycountyrepublicans.org/
DTSTAMP:20260422T160143Z
CATEGORIES:This Day in Missouri
DESCRIPTION:<p><span style='font-family: arial\, helvetica\, sans-serif\; f
 ont-size: 12pt\; color: #000000\;'>On September 19\, the following notable
  historical events related to Missouri occurred:</span></p>\n<ul>\n<li><sp
 an style='font-family: arial\, helvetica\, sans-serif\; font-size: 12pt\; 
 color: #000000\;'>1806: The Lewis and Clark Expedition was in the St. Loui
 s area on or around September 19\, nearing the completion of their explora
 tion of the Louisiana Purchase\, with St. Louis as their final destination
 \, reinforcing Missouri’s role as a central hub.</span></li>\n<li><span st
 yle='font-family: arial\, helvetica\, sans-serif\; font-size: 12pt\; color
 : #000000\;'>1856: During the “Bleeding Kansas” conflict\, pro-slavery “Bo
 rder Ruffians” from Missouri were active on or around September 19\, cross
 ing into Kansas to disrupt anti-slavery efforts\, escalating violence and 
 highlighting Missouri’s role in the slavery debate.</span></li>\n<li><span
  style='font-family: arial\, helvetica\, sans-serif\; font-size: 12pt\; co
 lor: #000000\;'>1861: During the Civil War\, the First Battle of Lexington
  was ongoing in Missouri. On September 19\, Confederate forces under Sterl
 ing Price continued their siege of Union troops in Lexington\, a critical 
 early conflict in the state\, nearing its climax.</span></li>\n<li><span s
 tyle='font-family: arial\, helvetica\, sans-serif\; font-size: 12pt\; colo
 r: #000000\;'>1885: The Missouri Botanical Garden in St. Louis hosted a si
 gnificant public exhibition around September 19\, showcasing rare orchids 
 and reinforcing its reputation as a leading botanical research center.</sp
 an></li>\n<li><span style='font-family: arial\, helvetica\, sans-serif\; f
 ont-size: 12pt\; color: #000000\;'>1933: The Great Depression impacted Mis
 souri\, and on or around September 19\, New Deal-funded Works Progress Adm
 inistration projects began in St. Louis\, constructing public infrastructu
 re and providing jobs to alleviate economic hardship.</span></li>\n<li><sp
 an style='font-family: arial\, helvetica\, sans-serif\; font-size: 12pt\; 
 color: #000000\;'>2004: The St. Louis Cardinals played a significant game 
 against the Arizona Diamondbacks at Busch Stadium on September 19\, with A
 lbert Pujols hitting a game-winning home run\, contributing to their stron
 g season and Missouri’s baseball legacy.</span></li>\n</ul>
DTSTART;TZID=America/Chicago:20250919T000000
DTEND;TZID=America/Chicago:20250919T235959
RRULE:FREQ=YEARLY;COUNT=3;INTERVAL=1
SUMMARY:September 19th This Day in Missouri
URL:https://www.taneycountyrepublicans.org.patriotsaroundthelake.com/odds-n
 -ends/this-week-in-missouri/24-this-day-in-missouri/2059-september-19th-th
 is-day-in-missouri.html
X-ALT-DESC;FMTTYPE=TEXT/HTML:<p><span style='font-family: arial\, helvetica
 \, sans-serif\; font-size: 12pt\; color: #000000\;'>On September 19\, the 
 following notable historical events related to Missouri occurred:</span></
 p>\n<ul>\n<li><span style='font-family: arial\, helvetica\, sans-serif\; f
 ont-size: 12pt\; color: #000000\;'>1806: The Lewis and Clark Expedition wa
 s in the St. Louis area on or around September 19\, nearing the completion
  of their exploration of the Louisiana Purchase\, with St. Louis as their 
 final destination\, reinforcing Missouri’s role as a central hub.</span></
 li>\n<li><span style='font-family: arial\, helvetica\, sans-serif\; font-s
 ize: 12pt\; color: #000000\;'>1856: During the “Bleeding Kansas” conflict\
 , pro-slavery “Border Ruffians” from Missouri were active on or around Sep
 tember 19\, crossing into Kansas to disrupt anti-slavery efforts\, escalat
 ing violence and highlighting Missouri’s role in the slavery debate.</span
 ></li>\n<li><span style='font-family: arial\, helvetica\, sans-serif\; fon
 t-size: 12pt\; color: #000000\;'>1861: During the Civil War\, the First Ba
 ttle of Lexington was ongoing in Missouri. On September 19\, Confederate f
 orces under Sterling Price continued their siege of Union troops in Lexing
 ton\, a critical early conflict in the state\, nearing its climax.</span><
 /li>\n<li><span style='font-family: arial\, helvetica\, sans-serif\; font-
 size: 12pt\; color: #000000\;'>1885: The Missouri Botanical Garden in St. 
 Louis hosted a significant public exhibition around September 19\, showcas
 ing rare orchids and reinforcing its reputation as a leading botanical res
 earch center.</span></li>\n<li><span style='font-family: arial\, helvetica
 \, sans-serif\; font-size: 12pt\; color: #000000\;'>1933: The Great Depres
 sion impacted Missouri\, and on or around September 19\, New Deal-funded W
 orks Progress Administration projects began in St. Louis\, constructing pu
 blic infrastructure and providing jobs to alleviate economic hardship.</sp
 an></li>\n<li><span style='font-family: arial\, helvetica\, sans-serif\; f
 ont-size: 12pt\; color: #000000\;'>2004: The St. Louis Cardinals played a 
 significant game against the Arizona Diamondbacks at Busch Stadium on Sept
 ember 19\, with Albert Pujols hitting a game-winning home run\, contributi
 ng to their strong season and Missouri’s baseball legacy.</span></li>\n</u
 l>
END:VEVENT
END:VCALENDAR
