BEGIN:VCALENDAR
VERSION:2.0
PRODID:-//https://www.taneycountyrepublicans.org.patriotsaroundthelake.com//NONSGML kigkonsult.se iCalcreator 2.41.71//
CALSCALE:GREGORIAN
METHOD:PUBLISH
UID:31656366-6434-4639-b532-636631623534
X-WR-CALNAME:JCal Pro Calendar
X-WR-CALDESC:Your online events calendar
X-WR-TIMEZONE:America/Chicago
BEGIN:VTIMEZONE
TZID:America/Chicago
TZUNTIL:20271107T070000Z
BEGIN:STANDARD
TZNAME:CST
DTSTART:20251102T020000
TZOFFSETFROM:-0500
TZOFFSETTO:-0600
RDATE:20261101T020000
END:STANDARD
BEGIN:DAYLIGHT
TZNAME:CDT
DTSTART:20260308T020000
TZOFFSETFROM:-0600
TZOFFSETTO:-0500
RDATE:20270314T020000
END:DAYLIGHT
END:VTIMEZONE
BEGIN:VEVENT
UID:20250916T000000UTC-8560Uzdfra@https://taneycountyrepublicans.org/
DTSTAMP:20260422T160144Z
CATEGORIES:This Day in Missouri
DESCRIPTION:<p><span style='font-family: arial\, helvetica\, sans-serif\; f
 ont-size: 12pt\; color: #000000\;'>On September 16\, the following notable
  historical events related to Missouri occurred:</span></p>\n<ul>\n<li><sp
 an style='font-family: arial\, helvetica\, sans-serif\; font-size: 12pt\; 
 color: #000000\;'>1806: The Lewis and Clark Expedition was in the St. Loui
 s area on or around September 16\, nearing the end of their exploration of
  the Louisiana Purchase\, preparing to return to St. Louis\, which served 
 as their final destination and a key hub.</span></li>\n<li><span style='fo
 nt-family: arial\, helvetica\, sans-serif\; font-size: 12pt\; color: #0000
 00\;'>1846: Missouri volunteers for the Mexican-American War\, including t
 he First Missouri Mounted Volunteers under Alexander Doniphan\, were depar
 ting St. Louis around September 16\, heading for their campaign in the Sou
 thwest.</span></li>\n<li><span style='font-family: arial\, helvetica\, san
 s-serif\; font-size: 12pt\; color: #000000\;'>1861: During the Civil War\,
  the First Battle of Lexington was intensifying in Missouri. On or around 
 September 16\, Confederate forces under Sterling Price continued their sie
 ge of Union troops in Lexington\, a significant early conflict in the stat
 e.</span></li>\n<li><span style='font-family: arial\, helvetica\, sans-ser
 if\; font-size: 12pt\; color: #000000\;'>1895: The Missouri Botanical Gard
 en in St. Louis hosted a major public exhibition around September 16\, sho
 wcasing rare plant species and reinforcing its reputation as a leading bot
 anical research center.</span></li>\n<li><span style='font-family: arial\,
  helvetica\, sans-serif\; font-size: 12pt\; color: #000000\;'>1920: The Ka
 nsas City Stockyards processed a record number of livestock around Septemb
 er 16\, underscoring Kansas City’s role as a major agricultural hub and bo
 osting Missouri’s economy.</span></li>\n<li><span style='font-family: aria
 l\, helvetica\, sans-serif\; font-size: 12pt\; color: #000000\;'>1998: The
  St. Louis Cardinals played a notable game against the Pittsburgh Pirates 
 at Busch Stadium on September 16\, with Mark McGwire hitting his 67th home
  run of the season\, continuing his record-breaking campaign and cementing
  Missouri’s baseball legacy.</span></li>\n</ul>
DTSTART;TZID=America/Chicago:20250916T000000
DTEND;TZID=America/Chicago:20250916T235959
RRULE:FREQ=YEARLY;COUNT=3;INTERVAL=1
SUMMARY:September 16th This Day in Missouri
URL:https://www.taneycountyrepublicans.org.patriotsaroundthelake.com/odds-n
 -ends/this-week-in-missouri/24-this-day-in-missouri/2052-september-16th-th
 is-day-in-missouri.html
X-ALT-DESC;FMTTYPE=TEXT/HTML:<p><span style='font-family: arial\, helvetica
 \, sans-serif\; font-size: 12pt\; color: #000000\;'>On September 16\, the 
 following notable historical events related to Missouri occurred:</span></
 p>\n<ul>\n<li><span style='font-family: arial\, helvetica\, sans-serif\; f
 ont-size: 12pt\; color: #000000\;'>1806: The Lewis and Clark Expedition wa
 s in the St. Louis area on or around September 16\, nearing the end of the
 ir exploration of the Louisiana Purchase\, preparing to return to St. Loui
 s\, which served as their final destination and a key hub.</span></li>\n<l
 i><span style='font-family: arial\, helvetica\, sans-serif\; font-size: 12
 pt\; color: #000000\;'>1846: Missouri volunteers for the Mexican-American 
 War\, including the First Missouri Mounted Volunteers under Alexander Doni
 phan\, were departing St. Louis around September 16\, heading for their ca
 mpaign in the Southwest.</span></li>\n<li><span style='font-family: arial\
 , helvetica\, sans-serif\; font-size: 12pt\; color: #000000\;'>1861: Durin
 g the Civil War\, the First Battle of Lexington was intensifying in Missou
 ri. On or around September 16\, Confederate forces under Sterling Price co
 ntinued their siege of Union troops in Lexington\, a significant early con
 flict in the state.</span></li>\n<li><span style='font-family: arial\, hel
 vetica\, sans-serif\; font-size: 12pt\; color: #000000\;'>1895: The Missou
 ri Botanical Garden in St. Louis hosted a major public exhibition around S
 eptember 16\, showcasing rare plant species and reinforcing its reputation
  as a leading botanical research center.</span></li>\n<li><span style='fon
 t-family: arial\, helvetica\, sans-serif\; font-size: 12pt\; color: #00000
 0\;'>1920: The Kansas City Stockyards processed a record number of livesto
 ck around September 16\, underscoring Kansas City’s role as a major agricu
 ltural hub and boosting Missouri’s economy.</span></li>\n<li><span style='
 font-family: arial\, helvetica\, sans-serif\; font-size: 12pt\; color: #00
 0000\;'>1998: The St. Louis Cardinals played a notable game against the Pi
 ttsburgh Pirates at Busch Stadium on September 16\, with Mark McGwire hitt
 ing his 67th home run of the season\, continuing his record-breaking campa
 ign and cementing Missouri’s baseball legacy.</span></li>\n</ul>
END:VEVENT
END:VCALENDAR
