BEGIN:VCALENDAR
VERSION:2.0
PRODID:-//https://www.taneycountyrepublicans.org.patriotsaroundthelake.com//NONSGML kigkonsult.se iCalcreator 2.41.71//
CALSCALE:GREGORIAN
METHOD:PUBLISH
UID:30666362-6564-4633-b639-336165306139
X-WR-CALNAME:JCal Pro Calendar
X-WR-CALDESC:Your online events calendar
X-WR-TIMEZONE:America/Chicago
BEGIN:VTIMEZONE
TZID:America/Chicago
TZUNTIL:20271107T070000Z
BEGIN:STANDARD
TZNAME:CST
DTSTART:20251102T020000
TZOFFSETFROM:-0500
TZOFFSETTO:-0600
RDATE:20261101T020000
END:STANDARD
BEGIN:DAYLIGHT
TZNAME:CDT
DTSTART:20260308T020000
TZOFFSETFROM:-0600
TZOFFSETTO:-0500
RDATE:20270314T020000
END:DAYLIGHT
END:VTIMEZONE
BEGIN:VEVENT
UID:20250914T000000UTC-7036TMe1V9@https://taneycountyrepublicans.org/
DTSTAMP:20260422T160230Z
CATEGORIES:This Day in Missouri
DESCRIPTION:<p><span style='font-family: arial\, helvetica\, sans-serif\; f
 ont-size: 12pt\; color: #000000\;'>On September 14\, the following notable
  historical events related to Missouri occurred:</span></p>\n<ul>\n<li><sp
 an style='font-family: arial\, helvetica\, sans-serif\; font-size: 12pt\; 
 color: #000000\;'>1806: The Lewis and Clark Expedition was in the St. Loui
 s area on or around September 14\, nearing the end of their exploration of
  the Louisiana Purchase\, preparing to return to St. Louis as their final 
 destination\, underscoring Missouri’s role as a key hub.</span></li>\n<li>
 <span style='font-family: arial\, helvetica\, sans-serif\; font-size: 12pt
 \; color: #000000\;'>1847: Missouri’s Doniphan’s Expedition\, led by Colon
 el Alexander Doniphan\, was celebrated in St. Louis around September 14 up
 on their return from the Mexican-American War\, having completed an epic 5
 \,000-mile campaign through the Southwest.</span></li>\n<li><span style='f
 ont-family: arial\, helvetica\, sans-serif\; font-size: 12pt\; color: #000
 000\;'>1861: During the Civil War\, the First Battle of Lexington was inte
 nsifying in Missouri. On or around September 14\, Confederate forces under
  Sterling Price continued their siege of Union troops in Lexington\, a sig
 nificant early conflict in the state.</span></li>\n<li><span style='font-f
 amily: arial\, helvetica\, sans-serif\; font-size: 12pt\; color: #000000\;
 '>1893: The Missouri Pacific Railroad expanded its network through southea
 st Missouri around September 14\, connecting Cape Girardeau to other regio
 ns and boosting the state’s economic infrastructure.</span></li>\n<li><spa
 n style='font-family: arial\, helvetica\, sans-serif\; font-size: 12pt\; c
 olor: #000000\;'>1925: The Missouri State Fair in Sedalia was ongoing arou
 nd September 14\, showcasing agricultural innovations and drawing thousand
 s\, reinforcing Missouri’s rural heritage.</span></li>\n<li><span style='f
 ont-family: arial\, helvetica\, sans-serif\; font-size: 12pt\; color: #000
 000\;'>2001: The St. Louis Cardinals played a notable game against the Mil
 waukee Brewers at Busch Stadium on September 14\, with Albert Pujols hitti
 ng a key home run\, contributing to their strong season and Missouri’s bas
 eball legacy\, in one of the first games resumed after the 9/11 attacks.</
 span></li>\n</ul>
DTSTART;TZID=America/Chicago:20250914T000000
DTEND;TZID=America/Chicago:20250914T235959
RRULE:FREQ=YEARLY;COUNT=3;INTERVAL=1
SUMMARY:September 14th This Day in Missouri
URL:https://www.taneycountyrepublicans.org.patriotsaroundthelake.com/odds-n
 -ends/this-week-in-missouri/24-this-day-in-missouri/2042-september-14th-th
 is-day-in-missouri.html
X-ALT-DESC;FMTTYPE=TEXT/HTML:<p><span style='font-family: arial\, helvetica
 \, sans-serif\; font-size: 12pt\; color: #000000\;'>On September 14\, the 
 following notable historical events related to Missouri occurred:</span></
 p>\n<ul>\n<li><span style='font-family: arial\, helvetica\, sans-serif\; f
 ont-size: 12pt\; color: #000000\;'>1806: The Lewis and Clark Expedition wa
 s in the St. Louis area on or around September 14\, nearing the end of the
 ir exploration of the Louisiana Purchase\, preparing to return to St. Loui
 s as their final destination\, underscoring Missouri’s role as a key hub.<
 /span></li>\n<li><span style='font-family: arial\, helvetica\, sans-serif\
 ; font-size: 12pt\; color: #000000\;'>1847: Missouri’s Doniphan’s Expediti
 on\, led by Colonel Alexander Doniphan\, was celebrated in St. Louis aroun
 d September 14 upon their return from the Mexican-American War\, having co
 mpleted an epic 5\,000-mile campaign through the Southwest.</span></li>\n<
 li><span style='font-family: arial\, helvetica\, sans-serif\; font-size: 1
 2pt\; color: #000000\;'>1861: During the Civil War\, the First Battle of L
 exington was intensifying in Missouri. On or around September 14\, Confede
 rate forces under Sterling Price continued their siege of Union troops in 
 Lexington\, a significant early conflict in the state.</span></li>\n<li><s
 pan style='font-family: arial\, helvetica\, sans-serif\; font-size: 12pt\;
  color: #000000\;'>1893: The Missouri Pacific Railroad expanded its networ
 k through southeast Missouri around September 14\, connecting Cape Girarde
 au to other regions and boosting the state’s economic infrastructure.</spa
 n></li>\n<li><span style='font-family: arial\, helvetica\, sans-serif\; fo
 nt-size: 12pt\; color: #000000\;'>1925: The Missouri State Fair in Sedalia
  was ongoing around September 14\, showcasing agricultural innovations and
  drawing thousands\, reinforcing Missouri’s rural heritage.</span></li>\n<
 li><span style='font-family: arial\, helvetica\, sans-serif\; font-size: 1
 2pt\; color: #000000\;'>2001: The St. Louis Cardinals played a notable gam
 e against the Milwaukee Brewers at Busch Stadium on September 14\, with Al
 bert Pujols hitting a key home run\, contributing to their strong season a
 nd Missouri’s baseball legacy\, in one of the first games resumed after th
 e 9/11 attacks.</span></li>\n</ul>
END:VEVENT
END:VCALENDAR
