BEGIN:VCALENDAR
VERSION:2.0
PRODID:-//https://www.taneycountyrepublicans.org.patriotsaroundthelake.com//NONSGML kigkonsult.se iCalcreator 2.41.71//
CALSCALE:GREGORIAN
METHOD:PUBLISH
UID:66333635-3433-4262-b634-636636363535
X-WR-CALNAME:JCal Pro Calendar
X-WR-CALDESC:Your online events calendar
X-WR-TIMEZONE:America/Chicago
BEGIN:VTIMEZONE
TZID:America/Chicago
TZUNTIL:20271107T070000Z
BEGIN:STANDARD
TZNAME:CST
DTSTART:20251102T020000
TZOFFSETFROM:-0500
TZOFFSETTO:-0600
RDATE:20261101T020000
END:STANDARD
BEGIN:DAYLIGHT
TZNAME:CDT
DTSTART:20260308T020000
TZOFFSETFROM:-0600
TZOFFSETTO:-0500
RDATE:20270314T020000
END:DAYLIGHT
END:VTIMEZONE
BEGIN:VEVENT
UID:20250904T000000UTC-8124vdo7ax@https://taneycountyrepublicans.org/
DTSTAMP:20260422T170805Z
CATEGORIES:This Day in Missouri
DESCRIPTION:<p><span style='font-family: arial\, helvetica\, sans-serif\; f
 ont-size: 12pt\; color: #000000\;'>On September 4\, the following notable 
 historical events related to Missouri have been recorded:</span></p>\n<ul>
 \n<li><span style='font-family: arial\, helvetica\, sans-serif\; font-size
 : 12pt\; color: #000000\;'>1804: The Lewis and Clark Expedition was near p
 resent-day Yankton\, South Dakota\, across from Missouri’s Atchison County
 \, on or around September 4. They continued documenting the region’s resou
 rces and interactions with the Yankton Sioux\, advancing their exploration
  of the Louisiana Purchase.</span></li>\n<li><span style='font-family: ari
 al\, helvetica\, sans-serif\; font-size: 12pt\; color: #000000\;'>1838: Du
 ring the Mormon War in Missouri\, tensions remained high. On or around Sep
 tember 4\, non-Mormon vigilantes in Daviess and Carroll Counties continued
  their campaign against Mormon settlers\, with skirmishes escalating the c
 onflict that led to the Mormon expulsion order later in 1838.</span></li>
 \n<li><span style='font-family: arial\, helvetica\, sans-serif\; font-size
 : 12pt\; color: #000000\;'>1861: During the Civil War\, Missouri was a hot
 bed of conflict. On September 4\, Confederate forces under Sterling Price 
 were advancing toward Lexington\, Missouri\, while Union forces were forti
 fying their defenses\, setting the stage for the First Battle of Lexington
  later that month.</span></li>\n<li><span style='font-family: arial\, helv
 etica\, sans-serif\; font-size: 12pt\; color: #000000\;'>1870: The Kansas 
 City Stockyards expanded operations around September 4\, reinforcing Kansa
 s City’s role as a major livestock trading hub and boosting Missouri’s agr
 icultural economy.</span></li>\n<li><span style='font-family: arial\, helv
 etica\, sans-serif\; font-size: 12pt\; color: #000000\;'>1904: The St. Lou
 is World’s Fair\, or Louisiana Purchase Exposition\, was ongoing\, with Se
 ptember 4 featuring international cultural exhibits and athletic competiti
 ons\, including Olympic events\, highlighting Missouri’s global prominence
 .</span></li>\n<li><span style='font-family: arial\, helvetica\, sans-seri
 f\; font-size: 12pt\; color: #000000\;'>1967: The St. Louis Cardinals play
 ed a notable game against the Chicago Cubs at Busch Stadium on September 4
 \, with Bob Gibson pitching a complete game and Orlando Cepeda hitting a k
 ey home run\, contributing to their World Series-winning season and reinfo
 rcing Missouri’s baseball legacy.</span></li>\n</ul>
DTSTART;TZID=America/Chicago:20250904T000000
DTEND;TZID=America/Chicago:20250904T235959
RRULE:FREQ=YEARLY;COUNT=3;INTERVAL=1
SUMMARY:September 4th This Day in Missouri
URL:https://www.taneycountyrepublicans.org.patriotsaroundthelake.com/odds-n
 -ends/this-week-in-missouri/24-this-day-in-missouri/2006-september-4th-thi
 s-day-in-missouri.html
X-ALT-DESC;FMTTYPE=TEXT/HTML:<p><span style='font-family: arial\, helvetica
 \, sans-serif\; font-size: 12pt\; color: #000000\;'>On September 4\, the f
 ollowing notable historical events related to Missouri have been recorded:
 </span></p>\n<ul>\n<li><span style='font-family: arial\, helvetica\, sans-
 serif\; font-size: 12pt\; color: #000000\;'>1804: The Lewis and Clark Expe
 dition was near present-day Yankton\, South Dakota\, across from Missouri’
 s Atchison County\, on or around September 4. They continued documenting t
 he region’s resources and interactions with the Yankton Sioux\, advancing 
 their exploration of the Louisiana Purchase.</span></li>\n<li><span style=
 'font-family: arial\, helvetica\, sans-serif\; font-size: 12pt\; color: #0
 00000\;'>1838: During the Mormon War in Missouri\, tensions remained high.
  On or around September 4\, non-Mormon vigilantes in Daviess and Carroll C
 ounties continued their campaign against Mormon settlers\, with skirmishes
  escalating the conflict that led to the Mormon expulsion order later in 1
 838.</span></li>\n<li><span style='font-family: arial\, helvetica\, sans-s
 erif\; font-size: 12pt\; color: #000000\;'>1861: During the Civil War\, Mi
 ssouri was a hotbed of conflict. On September 4\, Confederate forces under
  Sterling Price were advancing toward Lexington\, Missouri\, while Union f
 orces were fortifying their defenses\, setting the stage for the First Bat
 tle of Lexington later that month.</span></li>\n<li><span style='font-fami
 ly: arial\, helvetica\, sans-serif\; font-size: 12pt\; color: #000000\;'>1
 870: The Kansas City Stockyards expanded operations around September 4\, r
 einforcing Kansas City’s role as a major livestock trading hub and boostin
 g Missouri’s agricultural economy.</span></li>\n<li><span style='font-fami
 ly: arial\, helvetica\, sans-serif\; font-size: 12pt\; color: #000000\;'>1
 904: The St. Louis World’s Fair\, or Louisiana Purchase Exposition\, was o
 ngoing\, with September 4 featuring international cultural exhibits and at
 hletic competitions\, including Olympic events\, highlighting Missouri’s g
 lobal prominence.</span></li>\n<li><span style='font-family: arial\, helve
 tica\, sans-serif\; font-size: 12pt\; color: #000000\;'>1967: The St. Loui
 s Cardinals played a notable game against the Chicago Cubs at Busch Stadiu
 m on September 4\, with Bob Gibson pitching a complete game and Orlando Ce
 peda hitting a key home run\, contributing to their World Series-winning s
 eason and reinforcing Missouri’s baseball legacy.</span></li>\n</ul>
END:VEVENT
END:VCALENDAR
