BEGIN:VCALENDAR
VERSION:2.0
PRODID:-//https://www.taneycountyrepublicans.org.patriotsaroundthelake.com//NONSGML kigkonsult.se iCalcreator 2.41.71//
CALSCALE:GREGORIAN
METHOD:PUBLISH
UID:35313931-3530-4266-a235-386239613732
X-WR-CALNAME:JCal Pro Calendar
X-WR-CALDESC:Your online events calendar
X-WR-TIMEZONE:America/Chicago
BEGIN:VTIMEZONE
TZID:America/Chicago
TZUNTIL:20271107T070000Z
BEGIN:STANDARD
TZNAME:CST
DTSTART:20251102T020000
TZOFFSETFROM:-0500
TZOFFSETTO:-0600
RDATE:20261101T020000
END:STANDARD
BEGIN:DAYLIGHT
TZNAME:CDT
DTSTART:20260308T020000
TZOFFSETFROM:-0600
TZOFFSETTO:-0500
RDATE:20270314T020000
END:DAYLIGHT
END:VTIMEZONE
BEGIN:VEVENT
UID:20250902T000000UTC-2564AI4gVm@https://taneycountyrepublicans.org/
DTSTAMP:20260422T171735Z
CATEGORIES:This Day in Missouri
DESCRIPTION:<p><span style='font-family: arial\, helvetica\, sans-serif\; f
 ont-size: 12pt\; color: #000000\;'>On September 2\, the following notable 
 historical events related to Missouri have been recorded:</span></p>\n<ul>
 \n<li><span style='font-family: arial\, helvetica\, sans-serif\; font-size
 : 12pt\; color: #000000\;'>1804: The Lewis and Clark Expedition was near p
 resent-day Yankton\, South Dakota\, across from Missouri’s Atchison County
 \, on or around September 2. They continued their council with the Yankton
  Sioux\, documenting tribal customs and the region’s resources\, advancing
  their exploration of the Louisiana Purchase.</span></li>\n<li><span style
 ='font-family: arial\, helvetica\, sans-serif\; font-size: 12pt\; color: #
 000000\;'>1838: During the Mormon War in Missouri\, tensions remained high
 . On or around September 2\, non-Mormon vigilantes in Daviess and Carroll 
 Counties intensified their campaign against Mormon settlers\, with skirmis
 hes escalating the conflict that led to the Mormon expulsion order later i
 n 1838.</span></li>\n<li><span style='font-family: arial\, helvetica\, san
 s-serif\; font-size: 12pt\; color: #000000\;'>1861: During the Civil War\,
  Missouri was a hotbed of conflict. On September 2\, Union forces were reg
 rouping after the Battle of Wilson’s Creek\, while Confederate forces unde
 r Sterling Price began advancing toward Lexington\, Missouri\, setting the
  stage for the First Battle of Lexington later that month.</span></li>\n<l
 i><span style='font-family: arial\, helvetica\, sans-serif\; font-size: 12
 pt\; color: #000000\;'>1873: The Missouri Pacific Railroad expanded its ne
 twork through central Missouri around September 2\, completing a key line 
 connecting Jefferson City to other regions\, boosting the state’s transpor
 tation and economic infrastructure.</span></li>\n<li><span style='font-fam
 ily: arial\, helvetica\, sans-serif\; font-size: 12pt\; color: #000000\;'>
 1904: The St. Louis World’s Fair\, or Louisiana Purchase Exposition\, was 
 ongoing\, with September 2 featuring international trade exhibits and cult
 ural performances\, reinforcing Missouri’s prominence as a global hub.</sp
 an></li>\n<li><span style='font-family: arial\, helvetica\, sans-serif\; f
 ont-size: 12pt\; color: #000000\;'>1967: The St. Louis Cardinals played a 
 notable game against the Pittsburgh Pirates at Busch Stadium on September 
 2\, with Bob Gibson pitching a shutout and Orlando Cepeda hitting a game-w
 inning home run\, contributing to their World Series-winning season and re
 inforcing Missouri’s baseball legacy.</span></li>\n</ul>
DTSTART;TZID=America/Chicago:20250902T000000
DTEND;TZID=America/Chicago:20250902T235959
RRULE:FREQ=YEARLY;COUNT=3;INTERVAL=1
SUMMARY:September 2nd This Day in Missouri
URL:https://www.taneycountyrepublicans.org.patriotsaroundthelake.com/odds-n
 -ends/this-week-in-missouri/24-this-day-in-missouri/1991-september-2nd-thi
 s-day-in-missouri.html
X-ALT-DESC;FMTTYPE=TEXT/HTML:<p><span style='font-family: arial\, helvetica
 \, sans-serif\; font-size: 12pt\; color: #000000\;'>On September 2\, the f
 ollowing notable historical events related to Missouri have been recorded:
 </span></p>\n<ul>\n<li><span style='font-family: arial\, helvetica\, sans-
 serif\; font-size: 12pt\; color: #000000\;'>1804: The Lewis and Clark Expe
 dition was near present-day Yankton\, South Dakota\, across from Missouri’
 s Atchison County\, on or around September 2. They continued their council
  with the Yankton Sioux\, documenting tribal customs and the region’s reso
 urces\, advancing their exploration of the Louisiana Purchase.</span></li>
 \n<li><span style='font-family: arial\, helvetica\, sans-serif\; font-size
 : 12pt\; color: #000000\;'>1838: During the Mormon War in Missouri\, tensi
 ons remained high. On or around September 2\, non-Mormon vigilantes in Dav
 iess and Carroll Counties intensified their campaign against Mormon settle
 rs\, with skirmishes escalating the conflict that led to the Mormon expuls
 ion order later in 1838.</span></li>\n<li><span style='font-family: arial\
 , helvetica\, sans-serif\; font-size: 12pt\; color: #000000\;'>1861: Durin
 g the Civil War\, Missouri was a hotbed of conflict. On September 2\, Unio
 n forces were regrouping after the Battle of Wilson’s Creek\, while Confed
 erate forces under Sterling Price began advancing toward Lexington\, Misso
 uri\, setting the stage for the First Battle of Lexington later that month
 .</span></li>\n<li><span style='font-family: arial\, helvetica\, sans-seri
 f\; font-size: 12pt\; color: #000000\;'>1873: The Missouri Pacific Railroa
 d expanded its network through central Missouri around September 2\, compl
 eting a key line connecting Jefferson City to other regions\, boosting the
  state’s transportation and economic infrastructure.</span></li>\n<li><spa
 n style='font-family: arial\, helvetica\, sans-serif\; font-size: 12pt\; c
 olor: #000000\;'>1904: The St. Louis World’s Fair\, or Louisiana Purchase 
 Exposition\, was ongoing\, with September 2 featuring international trade 
 exhibits and cultural performances\, reinforcing Missouri’s prominence as 
 a global hub.</span></li>\n<li><span style='font-family: arial\, helvetica
 \, sans-serif\; font-size: 12pt\; color: #000000\;'>1967: The St. Louis Ca
 rdinals played a notable game against the Pittsburgh Pirates at Busch Stad
 ium on September 2\, with Bob Gibson pitching a shutout and Orlando Cepeda
  hitting a game-winning home run\, contributing to their World Series-winn
 ing season and reinforcing Missouri’s baseball legacy.</span></li>\n</ul>
END:VEVENT
END:VCALENDAR
