BEGIN:VCALENDAR
VERSION:2.0
PRODID:-//https://www.taneycountyrepublicans.org.patriotsaroundthelake.com//NONSGML kigkonsult.se iCalcreator 2.41.71//
CALSCALE:GREGORIAN
METHOD:PUBLISH
UID:35623831-3864-4133-b864-373063643437
X-WR-CALNAME:JCal Pro Calendar
X-WR-CALDESC:Your online events calendar
X-WR-TIMEZONE:America/Chicago
BEGIN:VTIMEZONE
TZID:America/Chicago
TZUNTIL:20271107T070000Z
BEGIN:STANDARD
TZNAME:CST
DTSTART:20251102T020000
TZOFFSETFROM:-0500
TZOFFSETTO:-0600
RDATE:20261101T020000
END:STANDARD
BEGIN:DAYLIGHT
TZNAME:CDT
DTSTART:20260308T020000
TZOFFSETFROM:-0600
TZOFFSETTO:-0500
RDATE:20270314T020000
END:DAYLIGHT
END:VTIMEZONE
BEGIN:VEVENT
UID:20250901T140000UTC-5438bVvmbb@https://taneycountyrepublicans.org/
DTSTAMP:20260422T153506Z
CATEGORIES:This Day in Missouri
DESCRIPTION:<p><span style='font-family: arial\, helvetica\, sans-serif\; f
 ont-size: 12pt\; color: #000000\;'>On September 1\, the following notable 
 historical events related to Missouri have been recorded:</span></p>\n<ul>
 \n<li><span style='font-family: arial\, helvetica\, sans-serif\; font-size
 : 12pt\; color: #000000\;'>1804: The Lewis and Clark Expedition was near p
 resent-day Yankton\, South Dakota\, across from Missouri’s Atchison County
 \, on or around September 1. They held a council with the Yankton Sioux\, 
 documenting the region’s geography and tribal interactions\, advancing the
 ir exploration of the Louisiana Purchase.</span></li>\n<li><span style='fo
 nt-family: arial\, helvetica\, sans-serif\; font-size: 12pt\; color: #0000
 00\;'>1838: During the Mormon War in Missouri\, tensions escalated. On or 
 around September 1\, non-Mormon vigilantes in Daviess and Carroll Counties
  continued their campaign against Mormon settlers\, with skirmishes intens
 ifying the conflict that led to the Mormon expulsion order later in 1838.<
 /span></li>\n<li><span style='font-family: arial\, helvetica\, sans-serif\
 ; font-size: 12pt\; color: #000000\;'>1861: During the Civil War\, Missour
 i remained a battleground. On September 1\, Union forces were regrouping a
 fter the Battle of Wilson’s Creek\, while Confederate forces\, led by Ster
 ling Price\, were preparing to advance on Lexington\, Missouri\, setting t
 he stage for the First Battle of Lexington later that month.</span></li>\n
 <li><span style='font-family: arial\, helvetica\, sans-serif\; font-size: 
 12pt\; color: #000000\;'>1870: The Kansas City Stockyards expanded operati
 ons around September 1\, reinforcing Kansas City’s role as a major livesto
 ck trading hub and boosting Missouri’s agricultural economy.</span></li>\n
 <li><span style='font-family: arial\, helvetica\, sans-serif\; font-size: 
 12pt\; color: #000000\;'>1904: The St. Louis World’s Fair\, or Louisiana P
 urchase Exposition\, was ongoing\, with September 1 featuring internationa
 l cultural exhibits and athletic competitions\, including Olympic events\,
  highlighting Missouri’s global prominence.</span></li>\n<li><span style='
 font-family: arial\, helvetica\, sans-serif\; font-size: 12pt\; color: #00
 0000\;'>1964: The St. Louis Cardinals played a notable game against the Ch
 icago Cubs at Busch Stadium on September 1\, with Bob Gibson pitching a co
 mplete game and Lou Brock stealing two bases\, contributing to their World
  Series-winning season and reinforcing Missouri’s baseball legacy.</span><
 /li>\n</ul>
DTSTART;TZID=America/Chicago:20250901T000000
DTEND;TZID=America/Chicago:20250901T235959
RRULE:FREQ=YEARLY;COUNT=3;INTERVAL=1
SUMMARY:September 1st This Day in Missouri
URL:https://www.taneycountyrepublicans.org.patriotsaroundthelake.com/odds-n
 -ends/this-week-in-missouri/24-this-day-in-missouri/1988-september-1st-thi
 s-day-in-missouri.html
X-ALT-DESC;FMTTYPE=TEXT/HTML:<p><span style='font-family: arial\, helvetica
 \, sans-serif\; font-size: 12pt\; color: #000000\;'>On September 1\, the f
 ollowing notable historical events related to Missouri have been recorded:
 </span></p>\n<ul>\n<li><span style='font-family: arial\, helvetica\, sans-
 serif\; font-size: 12pt\; color: #000000\;'>1804: The Lewis and Clark Expe
 dition was near present-day Yankton\, South Dakota\, across from Missouri’
 s Atchison County\, on or around September 1. They held a council with the
  Yankton Sioux\, documenting the region’s geography and tribal interaction
 s\, advancing their exploration of the Louisiana Purchase.</span></li>\n<l
 i><span style='font-family: arial\, helvetica\, sans-serif\; font-size: 12
 pt\; color: #000000\;'>1838: During the Mormon War in Missouri\, tensions 
 escalated. On or around September 1\, non-Mormon vigilantes in Daviess and
  Carroll Counties continued their campaign against Mormon settlers\, with 
 skirmishes intensifying the conflict that led to the Mormon expulsion orde
 r later in 1838.</span></li>\n<li><span style='font-family: arial\, helvet
 ica\, sans-serif\; font-size: 12pt\; color: #000000\;'>1861: During the Ci
 vil War\, Missouri remained a battleground. On September 1\, Union forces 
 were regrouping after the Battle of Wilson’s Creek\, while Confederate for
 ces\, led by Sterling Price\, were preparing to advance on Lexington\, Mis
 souri\, setting the stage for the First Battle of Lexington later that mon
 th.</span></li>\n<li><span style='font-family: arial\, helvetica\, sans-se
 rif\; font-size: 12pt\; color: #000000\;'>1870: The Kansas City Stockyards
  expanded operations around September 1\, reinforcing Kansas City’s role a
 s a major livestock trading hub and boosting Missouri’s agricultural econo
 my.</span></li>\n<li><span style='font-family: arial\, helvetica\, sans-se
 rif\; font-size: 12pt\; color: #000000\;'>1904: The St. Louis World’s Fair
 \, or Louisiana Purchase Exposition\, was ongoing\, with September 1 featu
 ring international cultural exhibits and athletic competitions\, including
  Olympic events\, highlighting Missouri’s global prominence.</span></li>\n
 <li><span style='font-family: arial\, helvetica\, sans-serif\; font-size: 
 12pt\; color: #000000\;'>1964: The St. Louis Cardinals played a notable ga
 me against the Chicago Cubs at Busch Stadium on September 1\, with Bob Gib
 son pitching a complete game and Lou Brock stealing two bases\, contributi
 ng to their World Series-winning season and reinforcing Missouri’s basebal
 l legacy.</span></li>\n</ul>
END:VEVENT
END:VCALENDAR
