BEGIN:VCALENDAR
VERSION:2.0
PRODID:-//https://www.taneycountyrepublicans.org.patriotsaroundthelake.com//NONSGML kigkonsult.se iCalcreator 2.41.71//
CALSCALE:GREGORIAN
METHOD:PUBLISH
UID:31633232-3763-4034-b161-643437626264
X-WR-CALNAME:JCal Pro Calendar
X-WR-CALDESC:Your online events calendar
X-WR-TIMEZONE:America/Chicago
BEGIN:VTIMEZONE
TZID:America/Chicago
TZUNTIL:20271107T070000Z
BEGIN:STANDARD
TZNAME:CST
DTSTART:20251102T020000
TZOFFSETFROM:-0500
TZOFFSETTO:-0600
RDATE:20261101T020000
END:STANDARD
BEGIN:DAYLIGHT
TZNAME:CDT
DTSTART:20260308T020000
TZOFFSETFROM:-0600
TZOFFSETTO:-0500
RDATE:20270314T020000
END:DAYLIGHT
END:VTIMEZONE
BEGIN:VEVENT
UID:20251210T000000UTC-5116756jKk@https://taneycountyrepublicans.org/
DTSTAMP:20260423T204041Z
CATEGORIES:This Day in Missouri
DESCRIPTION:<p><span style='font-family: arial\, helvetica\, sans-serif\; f
 ont-size: 12pt\; color: #000000\;'>On December 10\, the following notable 
 historical events related to Missouri occurred:</span></p>\n<ul>\n<li><spa
 n style='font-family: arial\, helvetica\, sans-serif\; font-size: 12pt\; c
 olor: #000000\;'>1806: Zebulon Pike’s expedition\, launched from St. Louis
  to explore the southern Louisiana Purchase\, continued its journey along 
 the Arkansas River\, though no specific Missouri activity is recorded for 
 this date.</span></li>\n<li><span style='font-family: arial\, helvetica\, 
 sans-serif\; font-size: 12pt\; color: #000000\;'>1856: During the “Bleedin
 g Kansas” conflict\, pro-slavery “Border Ruffians” from Missouri raided Ka
 nsas anti-slavery settlements\, escalating violent disputes over the terri
 tory’s slavery status.</span></li>\n<li><span style='font-family: arial\, 
 helvetica\, sans-serif\; font-size: 12pt\; color: #000000\;'>1861: In the 
 Civil War\, Union General Henry W. Halleck\, based in St. Louis\, fortifie
 d federal control\, while Confederate guerrillas conducted raids in rural 
 Missouri\, deepening the state’s internal divisions.</span></li>\n<li><spa
 n style='font-family: arial\, helvetica\, sans-serif\; font-size: 12pt\; c
 olor: #000000\;'>1864: Following Confederate General Sterling Price’s fail
 ed Missouri campaign\, his forces\, including Missouri troops\, were regro
 uping in Arkansas after October defeats\, with logistical efforts likely a
 round this date.</span></li>\n<li><span style='font-family: arial\, helvet
 ica\, sans-serif\; font-size: 12pt\; color: #000000\;'>1888: The Missouri 
 Pacific Railroad extended its southeast Missouri lines\, connecting towns 
 like Cape Girardeau to national markets\, fostering economic and agricultu
 ral growth.</span></li>\n<li><span style='font-family: arial\, helvetica\,
  sans-serif\; font-size: 12pt\; color: #000000\;'>1929: The Great Depressi
 on ravaged Missouri\, with Kansas City and St. Louis facing mass unemploym
 ent\, widespread business closures\, and bank failures\, crippling the sta
 te’s economy.</span></li>\n<li><span style='font-family: arial\, helvetica
 \, sans-serif\; font-size: 12pt\; color: #000000\;'>1941: Missouri communi
 ties\, including St. Louis and Kansas City\, intensified World War II effo
 rts post-Pearl Harbor\, with local factories ramping up war production and
  recruitment drives expanding rapidly.</span></li>\n</ul>
DTSTART;TZID=America/Chicago:20251210T000000
DTEND;TZID=America/Chicago:20251210T235959
RRULE:FREQ=YEARLY;COUNT=3;INTERVAL=1
SUMMARY:December 10th This Day in Missouri
URL:https://www.taneycountyrepublicans.org.patriotsaroundthelake.com/odds-n
 -ends/this-week-in-missouri/24-this-day-in-missouri/2316-december-10th-thi
 s-day-in-missouri.html
X-ALT-DESC;FMTTYPE=TEXT/HTML:<p><span style='font-family: arial\, helvetica
 \, sans-serif\; font-size: 12pt\; color: #000000\;'>On December 10\, the f
 ollowing notable historical events related to Missouri occurred:</span></p
 >\n<ul>\n<li><span style='font-family: arial\, helvetica\, sans-serif\; fo
 nt-size: 12pt\; color: #000000\;'>1806: Zebulon Pike’s expedition\, launch
 ed from St. Louis to explore the southern Louisiana Purchase\, continued i
 ts journey along the Arkansas River\, though no specific Missouri activity
  is recorded for this date.</span></li>\n<li><span style='font-family: ari
 al\, helvetica\, sans-serif\; font-size: 12pt\; color: #000000\;'>1856: Du
 ring the “Bleeding Kansas” conflict\, pro-slavery “Border Ruffians” from M
 issouri raided Kansas anti-slavery settlements\, escalating violent disput
 es over the territory’s slavery status.</span></li>\n<li><span style='font
 -family: arial\, helvetica\, sans-serif\; font-size: 12pt\; color: #000000
 \;'>1861: In the Civil War\, Union General Henry W. Halleck\, based in St.
  Louis\, fortified federal control\, while Confederate guerrillas conducte
 d raids in rural Missouri\, deepening the state’s internal divisions.</spa
 n></li>\n<li><span style='font-family: arial\, helvetica\, sans-serif\; fo
 nt-size: 12pt\; color: #000000\;'>1864: Following Confederate General Ster
 ling Price’s failed Missouri campaign\, his forces\, including Missouri tr
 oops\, were regrouping in Arkansas after October defeats\, with logistical
  efforts likely around this date.</span></li>\n<li><span style='font-famil
 y: arial\, helvetica\, sans-serif\; font-size: 12pt\; color: #000000\;'>18
 88: The Missouri Pacific Railroad extended its southeast Missouri lines\, 
 connecting towns like Cape Girardeau to national markets\, fostering econo
 mic and agricultural growth.</span></li>\n<li><span style='font-family: ar
 ial\, helvetica\, sans-serif\; font-size: 12pt\; color: #000000\;'>1929: T
 he Great Depression ravaged Missouri\, with Kansas City and St. Louis faci
 ng mass unemployment\, widespread business closures\, and bank failures\, 
 crippling the state’s economy.</span></li>\n<li><span style='font-family: 
 arial\, helvetica\, sans-serif\; font-size: 12pt\; color: #000000\;'>1941:
  Missouri communities\, including St. Louis and Kansas City\, intensified 
 World War II efforts post-Pearl Harbor\, with local factories ramping up w
 ar production and recruitment drives expanding rapidly.</span></li>\n</ul>
END:VEVENT
END:VCALENDAR
