BEGIN:VCALENDAR
VERSION:2.0
PRODID:-//https://www.taneycountyrepublicans.org.patriotsaroundthelake.com//NONSGML kigkonsult.se iCalcreator 2.41.71//
CALSCALE:GREGORIAN
METHOD:PUBLISH
UID:64326137-6466-4039-b639-303331333939
X-WR-CALNAME:JCal Pro Calendar
X-WR-CALDESC:Your online events calendar
X-WR-TIMEZONE:America/Chicago
BEGIN:VTIMEZONE
TZID:America/Chicago
TZUNTIL:20271107T070000Z
BEGIN:STANDARD
TZNAME:CST
DTSTART:20251102T020000
TZOFFSETFROM:-0500
TZOFFSETTO:-0600
RDATE:20261101T020000
END:STANDARD
BEGIN:DAYLIGHT
TZNAME:CDT
DTSTART:20260308T020000
TZOFFSETFROM:-0600
TZOFFSETTO:-0500
RDATE:20270314T020000
END:DAYLIGHT
END:VTIMEZONE
BEGIN:VEVENT
UID:20251209T000000UTC-1398hvVnsg@https://taneycountyrepublicans.org/
DTSTAMP:20260423T191133Z
CATEGORIES:This Day in Missouri
DESCRIPTION:<p><span style='font-family: arial\, helvetica\, sans-serif\; f
 ont-size: 12pt\; color: #000000\;'>On December 9\, the following notable h
 istorical events related to Missouri occurred:</span></p>\n<ul>\n<li><span
  style='font-family: arial\, helvetica\, sans-serif\; font-size: 12pt\; co
 lor: #000000\;'>1806: Zebulon Pike’s expedition\, sent from St. Louis to e
 xplore the southern Louisiana Purchase\, continued mapping the Arkansas Ri
 ver region\, though no specific Missouri event is documented for this date
 .</span></li>\n<li><span style='font-family: arial\, helvetica\, sans-seri
 f\; font-size: 12pt\; color: #000000\;'>1856: In the “Bleeding Kansas” cri
 sis\, pro-slavery “Border Ruffians” from Missouri persisted in raiding Kan
 sas anti-slavery settlements\, fueling violent clashes over the territory’
 s slavery status.</span></li>\n<li><span style='font-family: arial\, helve
 tica\, sans-serif\; font-size: 12pt\; color: #000000\;'>1861: During the C
 ivil War\, Union General Henry W. Halleck\, commanding from St. Louis\, re
 inforced federal control\, while Confederate guerrilla raids disrupted rur
 al Missouri\, intensifying state divisions.</span></li>\n<li><span style='
 font-family: arial\, helvetica\, sans-serif\; font-size: 12pt\; color: #00
 0000\;'>1864: After Confederate General Sterling Price’s failed Missouri c
 ampaign\, his forces\, including Missouri units\, were reorganizing in Ark
 ansas following October defeats\, with some activity likely around this da
 te.</span></li>\n<li><span style='font-family: arial\, helvetica\, sans-se
 rif\; font-size: 12pt\; color: #000000\;'>1888: The Missouri Pacific Railr
 oad advanced its southeast Missouri network\, linking Cape Girardeau to br
 oader trade routes\, driving regional economic and agricultural expansion.
 </span></li>\n<li><span style='font-family: arial\, helvetica\, sans-serif
 \; font-size: 12pt\; color: #000000\;'>1929: The Great Depression deepened
  in Missouri\, with Kansas City and St. Louis grappling with soaring unemp
 loyment\, widespread business failures\, and failing banks\, devastating l
 ocal economies.</span></li>\n<li><span style='font-family: arial\, helveti
 ca\, sans-serif\; font-size: 12pt\; color: #000000\;'>1941: Missouri commu
 nities\, including St. Louis and Kansas City\, escalated World War II mobi
 lization after Pearl Harbor\, with local industries shifting to war produc
 tion and recruitment drives expanding.</span></li>\n</ul>
DTSTART;TZID=America/Chicago:20251209T000000
DTEND;TZID=America/Chicago:20251209T235959
RRULE:FREQ=YEARLY;COUNT=3;INTERVAL=1
SUMMARY:December 9th This Day in Missouri
URL:https://www.taneycountyrepublicans.org.patriotsaroundthelake.com/odds-n
 -ends/this-week-in-missouri/24-this-day-in-missouri/2313-december-9th-this
 -day-in-missouri.html
X-ALT-DESC;FMTTYPE=TEXT/HTML:<p><span style='font-family: arial\, helvetica
 \, sans-serif\; font-size: 12pt\; color: #000000\;'>On December 9\, the fo
 llowing notable historical events related to Missouri occurred:</span></p>
 \n<ul>\n<li><span style='font-family: arial\, helvetica\, sans-serif\; fon
 t-size: 12pt\; color: #000000\;'>1806: Zebulon Pike’s expedition\, sent fr
 om St. Louis to explore the southern Louisiana Purchase\, continued mappin
 g the Arkansas River region\, though no specific Missouri event is documen
 ted for this date.</span></li>\n<li><span style='font-family: arial\, helv
 etica\, sans-serif\; font-size: 12pt\; color: #000000\;'>1856: In the “Ble
 eding Kansas” crisis\, pro-slavery “Border Ruffians” from Missouri persist
 ed in raiding Kansas anti-slavery settlements\, fueling violent clashes ov
 er the territory’s slavery status.</span></li>\n<li><span style='font-fami
 ly: arial\, helvetica\, sans-serif\; font-size: 12pt\; color: #000000\;'>1
 861: During the Civil War\, Union General Henry W. Halleck\, commanding fr
 om St. Louis\, reinforced federal control\, while Confederate guerrilla ra
 ids disrupted rural Missouri\, intensifying state divisions.</span></li>\n
 <li><span style='font-family: arial\, helvetica\, sans-serif\; font-size: 
 12pt\; color: #000000\;'>1864: After Confederate General Sterling Price’s 
 failed Missouri campaign\, his forces\, including Missouri units\, were re
 organizing in Arkansas following October defeats\, with some activity like
 ly around this date.</span></li>\n<li><span style='font-family: arial\, he
 lvetica\, sans-serif\; font-size: 12pt\; color: #000000\;'>1888: The Misso
 uri Pacific Railroad advanced its southeast Missouri network\, linking Cap
 e Girardeau to broader trade routes\, driving regional economic and agricu
 ltural expansion.</span></li>\n<li><span style='font-family: arial\, helve
 tica\, sans-serif\; font-size: 12pt\; color: #000000\;'>1929: The Great De
 pression deepened in Missouri\, with Kansas City and St. Louis grappling w
 ith soaring unemployment\, widespread business failures\, and failing bank
 s\, devastating local economies.</span></li>\n<li><span style='font-family
 : arial\, helvetica\, sans-serif\; font-size: 12pt\; color: #000000\;'>194
 1: Missouri communities\, including St. Louis and Kansas City\, escalated 
 World War II mobilization after Pearl Harbor\, with local industries shift
 ing to war production and recruitment drives expanding.</span></li>\n</ul>
END:VEVENT
END:VCALENDAR
