BEGIN:VCALENDAR
VERSION:2.0
PRODID:-//https://www.taneycountyrepublicans.org.patriotsaroundthelake.com//NONSGML kigkonsult.se iCalcreator 2.41.71//
CALSCALE:GREGORIAN
METHOD:PUBLISH
UID:35663039-3364-4933-a138-396436666438
X-WR-CALNAME:JCal Pro Calendar
X-WR-CALDESC:Your online events calendar
X-WR-TIMEZONE:America/Chicago
BEGIN:VTIMEZONE
TZID:America/Chicago
TZUNTIL:20271107T070000Z
BEGIN:STANDARD
TZNAME:CST
DTSTART:20251102T020000
TZOFFSETFROM:-0500
TZOFFSETTO:-0600
RDATE:20261101T020000
END:STANDARD
BEGIN:DAYLIGHT
TZNAME:CDT
DTSTART:20260308T020000
TZOFFSETFROM:-0600
TZOFFSETTO:-0500
RDATE:20270314T020000
END:DAYLIGHT
END:VTIMEZONE
BEGIN:VEVENT
UID:20251110T000000UTC-52037NngSc@https://taneycountyrepublicans.org/
DTSTAMP:20260425T131229Z
CATEGORIES:This Day in Missouri
DESCRIPTION:<p><span style='font-family: arial\, helvetica\, sans-serif\; f
 ont-size: 12pt\; color: #000000\;'>On November 10\, the following notable 
 historical events related to Missouri occurred:</span></p>\n<ul>\n<li><spa
 n style='font-family: arial\, helvetica\, sans-serif\; font-size: 12pt\; c
 olor: #000000\;'>1806: The Lewis and Clark Expedition\, having returned to
  St. Louis in late September\, was still celebrated on or around November 
 10\, with ongoing festivities in St. Louis honoring their exploration of t
 he Louisiana Purchase\, reinforcing Missouri’s role as a western hub.</spa
 n></li>\n<li><span style='font-family: arial\, helvetica\, sans-serif\; fo
 nt-size: 12pt\; color: #000000\;'>1857: During the prelude to the Civil Wa
 r\, tensions over slavery escalated. On or around November 10\, pro-slaver
 y “Border Ruffians” from Missouri held rallies in Kansas City to support p
 ro-slavery efforts in Kansas\, contributing to the “Bleeding Kansas” confl
 ict.</span></li>\n<li><span style='font-family: arial\, helvetica\, sans-s
 erif\; font-size: 12pt\; color: #000000\;'>1861: During the Civil War\, Mi
 ssouri was a hotbed of conflict. On or around November 10\, Union forces u
 nder General Ulysses S. Grant were reorganizing in southeast Missouri afte
 r the Battle of Belmont\, while Confederate guerrilla operations continued
  to disrupt Union control.</span></li>\n<li><span style='font-family: aria
 l\, helvetica\, sans-serif\; font-size: 12pt\; color: #000000\;'>1890: The
  Missouri Pacific Railroad expanded its network through southwest Missouri
  around November 10\, connecting Springfield to other regions and boosting
  the state’s economic infrastructure.</span></li>\n<li><span style='font-f
 amily: arial\, helvetica\, sans-serif\; font-size: 12pt\; color: #000000\;
 '>1929: The Great Depression deepened in Missouri. On or around November 1
 0\, banks in St. Louis faced increased financial strain\, reflecting the w
 orsening economic crisis in the state.</span></li>\n<li><span style='font-
 family: arial\, helvetica\, sans-serif\; font-size: 12pt\; color: #000000\
 ;'>2011: The St. Louis Cardinals continued celebrations of their World Ser
 ies victory over the Texas Rangers\, with fan events in St. Louis on or ar
 ound November 10\, honoring David Freese’s MVP performance and reinforcing
  Missouri’s baseball legacy.</span></li>\n</ul>
DTSTART;TZID=America/Chicago:20251110T000000
DTEND;TZID=America/Chicago:20251110T235959
RRULE:FREQ=YEARLY;COUNT=3;INTERVAL=1
SUMMARY:November 10th This Day in Missouri
URL:https://www.taneycountyrepublicans.org.patriotsaroundthelake.com/odds-n
 -ends/this-week-in-missouri/24-this-day-in-missouri/2226-november-10th-thi
 s-day-in-missouri.html
X-ALT-DESC;FMTTYPE=TEXT/HTML:<p><span style='font-family: arial\, helvetica
 \, sans-serif\; font-size: 12pt\; color: #000000\;'>On November 10\, the f
 ollowing notable historical events related to Missouri occurred:</span></p
 >\n<ul>\n<li><span style='font-family: arial\, helvetica\, sans-serif\; fo
 nt-size: 12pt\; color: #000000\;'>1806: The Lewis and Clark Expedition\, h
 aving returned to St. Louis in late September\, was still celebrated on or
  around November 10\, with ongoing festivities in St. Louis honoring their
  exploration of the Louisiana Purchase\, reinforcing Missouri’s role as a 
 western hub.</span></li>\n<li><span style='font-family: arial\, helvetica\
 , sans-serif\; font-size: 12pt\; color: #000000\;'>1857: During the prelud
 e to the Civil War\, tensions over slavery escalated. On or around Novembe
 r 10\, pro-slavery “Border Ruffians” from Missouri held rallies in Kansas 
 City to support pro-slavery efforts in Kansas\, contributing to the “Bleed
 ing Kansas” conflict.</span></li>\n<li><span style='font-family: arial\, h
 elvetica\, sans-serif\; font-size: 12pt\; color: #000000\;'>1861: During t
 he Civil War\, Missouri was a hotbed of conflict. On or around November 10
 \, Union forces under General Ulysses S. Grant were reorganizing in southe
 ast Missouri after the Battle of Belmont\, while Confederate guerrilla ope
 rations continued to disrupt Union control.</span></li>\n<li><span style='
 font-family: arial\, helvetica\, sans-serif\; font-size: 12pt\; color: #00
 0000\;'>1890: The Missouri Pacific Railroad expanded its network through s
 outhwest Missouri around November 10\, connecting Springfield to other reg
 ions and boosting the state’s economic infrastructure.</span></li>\n<li><s
 pan style='font-family: arial\, helvetica\, sans-serif\; font-size: 12pt\;
  color: #000000\;'>1929: The Great Depression deepened in Missouri. On or 
 around November 10\, banks in St. Louis faced increased financial strain\,
  reflecting the worsening economic crisis in the state.</span></li>\n<li><
 span style='font-family: arial\, helvetica\, sans-serif\; font-size: 12pt\
 ; color: #000000\;'>2011: The St. Louis Cardinals continued celebrations o
 f their World Series victory over the Texas Rangers\, with fan events in S
 t. Louis on or around November 10\, honoring David Freese’s MVP performanc
 e and reinforcing Missouri’s baseball legacy.</span></li>\n</ul>
END:VEVENT
END:VCALENDAR
