BEGIN:VCALENDAR
VERSION:2.0
PRODID:-//https://www.taneycountyrepublicans.org.patriotsaroundthelake.com//NONSGML kigkonsult.se iCalcreator 2.41.71//
CALSCALE:GREGORIAN
METHOD:PUBLISH
UID:62346463-3032-4934-b366-633131623134
X-WR-CALNAME:JCal Pro Calendar
X-WR-CALDESC:Your online events calendar
X-WR-TIMEZONE:America/Chicago
BEGIN:VTIMEZONE
TZID:America/Chicago
TZUNTIL:20271107T070000Z
BEGIN:STANDARD
TZNAME:CST
DTSTART:20251102T020000
TZOFFSETFROM:-0500
TZOFFSETTO:-0600
RDATE:20261101T020000
END:STANDARD
BEGIN:DAYLIGHT
TZNAME:CDT
DTSTART:20260308T020000
TZOFFSETFROM:-0600
TZOFFSETTO:-0500
RDATE:20270314T020000
END:DAYLIGHT
END:VTIMEZONE
BEGIN:VEVENT
UID:20251109T000000UTC-2005Vphdpi@https://taneycountyrepublicans.org/
DTSTAMP:20260425T113951Z
CATEGORIES:This Day in Missouri
DESCRIPTION:<p><span style='font-size: 12pt\; color: #000000\;'>On November
  9\, the following notable historical events related to Missouri occurred:
 </span></p>\n<ul>\n<li><span style='font-size: 12pt\; color: #000000\;'>18
 06: The Lewis and Clark Expedition\, having returned to St. Louis in late 
 September\, continued to be celebrated on or around November 9\, with loca
 l festivities in St. Louis honoring their exploration of the Louisiana Pur
 chase\, reinforcing Missouri’s role as a western hub.</span></li>\n<li><sp
 an style='font-size: 12pt\; color: #000000\;'>1856: During the “Bleeding K
 ansas” conflict\, pro-slavery “Border Ruffians” from Missouri were active 
 on or around November 9\, crossing into Kansas to disrupt anti-slavery eff
 orts\, escalating violence and highlighting Missouri’s role in the slavery
  debate.</span></li>\n<li><span style='font-size: 12pt\; color: #000000\;'
 >1861: During the Civil War\, Missouri remained a battleground. On or arou
 nd November 9\, Union forces under General Ulysses S. Grant were regroupin
 g in southeast Missouri after the Battle of Belmont\, while Confederate gu
 errilla activities persisted in the state.</span></li>\n<li><span style='f
 ont-size: 12pt\; color: #000000\;'>1888: The St. Louis-based Anheuser-Busc
 h brewery expanded its bottling operations around November 9\, enhancing B
 udweiser’s national distribution and reinforcing Missouri’s prominence in 
 the brewing industry.</span></li>\n<li><span style='font-size: 12pt\; colo
 r: #000000\;'>1933: The Great Depression impacted Missouri\, and on or aro
 und November 9\, New Deal-funded Works Progress Administration projects in
  St. Louis continued constructing public infrastructure\, providing jobs a
 nd economic relief.</span></li>\n<li><span style='font-size: 12pt\; color:
  #000000\;'>2004: The St. Louis Cardinals held a season-end fan appreciati
 on event in St. Louis on or around November 9\, following their World Seri
 es loss to the Boston Red Sox\, honoring Albert Pujols and the team’s stro
 ng performance\, reinforcing Missouri’s baseball legacy.</span></li>\n</ul
 >
DTSTART;TZID=America/Chicago:20251109T000000
DTEND;TZID=America/Chicago:20251109T235959
RRULE:FREQ=YEARLY;COUNT=3;INTERVAL=1
SUMMARY:November 9th This Day in Missouri
URL:https://www.taneycountyrepublicans.org.patriotsaroundthelake.com/odds-n
 -ends/this-week-in-missouri/24-this-day-in-missouri/2223-november-9th-this
 -day-in-missouri.html
X-ALT-DESC;FMTTYPE=TEXT/HTML:<p><span style='font-size: 12pt\; color: #0000
 00\;'>On November 9\, the following notable historical events related to M
 issouri occurred:</span></p>\n<ul>\n<li><span style='font-size: 12pt\; col
 or: #000000\;'>1806: The Lewis and Clark Expedition\, having returned to S
 t. Louis in late September\, continued to be celebrated on or around Novem
 ber 9\, with local festivities in St. Louis honoring their exploration of 
 the Louisiana Purchase\, reinforcing Missouri’s role as a western hub.</sp
 an></li>\n<li><span style='font-size: 12pt\; color: #000000\;'>1856: Durin
 g the “Bleeding Kansas” conflict\, pro-slavery “Border Ruffians” from Miss
 ouri were active on or around November 9\, crossing into Kansas to disrupt
  anti-slavery efforts\, escalating violence and highlighting Missouri’s ro
 le in the slavery debate.</span></li>\n<li><span style='font-size: 12pt\; 
 color: #000000\;'>1861: During the Civil War\, Missouri remained a battleg
 round. On or around November 9\, Union forces under General Ulysses S. Gra
 nt were regrouping in southeast Missouri after the Battle of Belmont\, whi
 le Confederate guerrilla activities persisted in the state.</span></li>\n<
 li><span style='font-size: 12pt\; color: #000000\;'>1888: The St. Louis-ba
 sed Anheuser-Busch brewery expanded its bottling operations around Novembe
 r 9\, enhancing Budweiser’s national distribution and reinforcing Missouri
 ’s prominence in the brewing industry.</span></li>\n<li><span style='font-
 size: 12pt\; color: #000000\;'>1933: The Great Depression impacted Missour
 i\, and on or around November 9\, New Deal-funded Works Progress Administr
 ation projects in St. Louis continued constructing public infrastructure\,
  providing jobs and economic relief.</span></li>\n<li><span style='font-si
 ze: 12pt\; color: #000000\;'>2004: The St. Louis Cardinals held a season-e
 nd fan appreciation event in St. Louis on or around November 9\, following
  their World Series loss to the Boston Red Sox\, honoring Albert Pujols an
 d the team’s strong performance\, reinforcing Missouri’s baseball legacy.<
 /span></li>\n</ul>
END:VEVENT
END:VCALENDAR
