BEGIN:VCALENDAR
VERSION:2.0
PRODID:-//https://www.taneycountyrepublicans.org.patriotsaroundthelake.com//NONSGML kigkonsult.se iCalcreator 2.41.71//
CALSCALE:GREGORIAN
METHOD:PUBLISH
UID:33346432-3931-4261-b330-323365613964
X-WR-CALNAME:JCal Pro Calendar
X-WR-CALDESC:Your online events calendar
X-WR-TIMEZONE:America/Chicago
BEGIN:VTIMEZONE
TZID:America/Chicago
TZUNTIL:20271107T070000Z
BEGIN:STANDARD
TZNAME:CST
DTSTART:20251102T020000
TZOFFSETFROM:-0500
TZOFFSETTO:-0600
RDATE:20261101T020000
END:STANDARD
BEGIN:DAYLIGHT
TZNAME:CDT
DTSTART:20260308T020000
TZOFFSETFROM:-0600
TZOFFSETTO:-0500
RDATE:20270314T020000
END:DAYLIGHT
END:VTIMEZONE
BEGIN:VEVENT
UID:20251108T000000UTC-3779vLUJxb@https://taneycountyrepublicans.org/
DTSTAMP:20260425T131239Z
CATEGORIES:This Day in Missouri
DESCRIPTION:<p><span style='font-family: arial\, helvetica\, sans-serif\; f
 ont-size: 12pt\; color: #000000\;'>On November 8\, the following notable h
 istorical events related to Missouri occurred:</span></p>\n<ul>\n<li><span
  style='font-family: arial\, helvetica\, sans-serif\; font-size: 12pt\; co
 lor: #000000\;'>1806: The Lewis and Clark Expedition\, having returned to 
 St. Louis in late September\, was still celebrated on or around November 8
 \, with ongoing festivities in St. Louis honoring their exploration of the
  Louisiana Purchase\, reinforcing Missouri’s role as a western hub.</span>
 </li>\n<li><span style='font-family: arial\, helvetica\, sans-serif\; font
 -size: 12pt\; color: #000000\;'>1857: During the prelude to the Civil War\
 , tensions over slavery were high. On or around November 8\, pro-slavery “
 Border Ruffians” from Missouri held meetings in Westport to support pro-sl
 avery efforts in Kansas\, escalating the “Bleeding Kansas” conflict.</span
 ></li>\n<li><span style='font-family: arial\, helvetica\, sans-serif\; fon
 t-size: 12pt\; color: #000000\;'>1861: During the Civil War\, the aftermat
 h of the Battle of Belmont (November 7) was unfolding in Missouri. On Nove
 mber 8\, Union forces under General Ulysses S. Grant withdrew back to Cair
 o\, Illinois\, after their engagement with Confederate troops\, reflecting
  Missouri’s role in early Civil War conflicts.</span></li>\n<li><span styl
 e='font-family: arial\, helvetica\, sans-serif\; font-size: 12pt\; color: 
 #000000\;'>1890: The Missouri Botanical Garden in St. Louis hosted a publi
 c exhibition around November 8\, showcasing rare plant species and reinfor
 cing its reputation as a leading botanical research center.</span></li>\n<
 li><span style='font-family: arial\, helvetica\, sans-serif\; font-size: 1
 2pt\; color: #000000\;'>1929: The Great Depression deepened in Missouri. O
 n or around November 8\, businesses in Kansas City faced increasing financ
 ial difficulties\, highlighting the state’s economic challenges.</span></l
 i>\n<li><span style='font-family: arial\, helvetica\, sans-serif\; font-si
 ze: 12pt\; color: #000000\;'>2011: The St. Louis Cardinals continued celeb
 rations of their World Series victory over the Texas Rangers\, with commun
 ity events in St. Louis on or around November 8\, honoring David Freese’s 
 MVP performance and reinforcing Missouri’s baseball legacy.</span></li>\n<
 /ul>
DTSTART;TZID=America/Chicago:20251108T000000
DTEND;TZID=America/Chicago:20251108T235959
RRULE:FREQ=YEARLY;COUNT=3;INTERVAL=1
SUMMARY:November 8th This Day in Missouri
URL:https://www.taneycountyrepublicans.org.patriotsaroundthelake.com/odds-n
 -ends/this-week-in-missouri/24-this-day-in-missouri/2220-november-8th-this
 -day-in-missouri.html
X-ALT-DESC;FMTTYPE=TEXT/HTML:<p><span style='font-family: arial\, helvetica
 \, sans-serif\; font-size: 12pt\; color: #000000\;'>On November 8\, the fo
 llowing notable historical events related to Missouri occurred:</span></p>
 \n<ul>\n<li><span style='font-family: arial\, helvetica\, sans-serif\; fon
 t-size: 12pt\; color: #000000\;'>1806: The Lewis and Clark Expedition\, ha
 ving returned to St. Louis in late September\, was still celebrated on or 
 around November 8\, with ongoing festivities in St. Louis honoring their e
 xploration of the Louisiana Purchase\, reinforcing Missouri’s role as a we
 stern hub.</span></li>\n<li><span style='font-family: arial\, helvetica\, 
 sans-serif\; font-size: 12pt\; color: #000000\;'>1857: During the prelude 
 to the Civil War\, tensions over slavery were high. On or around November 
 8\, pro-slavery “Border Ruffians” from Missouri held meetings in Westport 
 to support pro-slavery efforts in Kansas\, escalating the “Bleeding Kansas
 ” conflict.</span></li>\n<li><span style='font-family: arial\, helvetica\,
  sans-serif\; font-size: 12pt\; color: #000000\;'>1861: During the Civil W
 ar\, the aftermath of the Battle of Belmont (November 7) was unfolding in 
 Missouri. On November 8\, Union forces under General Ulysses S. Grant with
 drew back to Cairo\, Illinois\, after their engagement with Confederate tr
 oops\, reflecting Missouri’s role in early Civil War conflicts.</span></li
 >\n<li><span style='font-family: arial\, helvetica\, sans-serif\; font-siz
 e: 12pt\; color: #000000\;'>1890: The Missouri Botanical Garden in St. Lou
 is hosted a public exhibition around November 8\, showcasing rare plant sp
 ecies and reinforcing its reputation as a leading botanical research cente
 r.</span></li>\n<li><span style='font-family: arial\, helvetica\, sans-ser
 if\; font-size: 12pt\; color: #000000\;'>1929: The Great Depression deepen
 ed in Missouri. On or around November 8\, businesses in Kansas City faced 
 increasing financial difficulties\, highlighting the state’s economic chal
 lenges.</span></li>\n<li><span style='font-family: arial\, helvetica\, san
 s-serif\; font-size: 12pt\; color: #000000\;'>2011: The St. Louis Cardinal
 s continued celebrations of their World Series victory over the Texas Rang
 ers\, with community events in St. Louis on or around November 8\, honorin
 g David Freese’s MVP performance and reinforcing Missouri’s baseball legac
 y.</span></li>\n</ul>
END:VEVENT
END:VCALENDAR
