BEGIN:VCALENDAR
VERSION:2.0
PRODID:-//https://www.taneycountyrepublicans.org.patriotsaroundthelake.com//NONSGML kigkonsult.se iCalcreator 2.41.71//
CALSCALE:GREGORIAN
METHOD:PUBLISH
UID:33643930-3430-4335-a561-663735663831
X-WR-CALNAME:JCal Pro Calendar
X-WR-CALDESC:Your online events calendar
X-WR-TIMEZONE:America/Chicago
BEGIN:VTIMEZONE
TZID:America/Chicago
TZUNTIL:20271107T070000Z
BEGIN:STANDARD
TZNAME:CST
DTSTART:20251102T020000
TZOFFSETFROM:-0500
TZOFFSETTO:-0600
RDATE:20261101T020000
END:STANDARD
BEGIN:DAYLIGHT
TZNAME:CDT
DTSTART:20260308T020000
TZOFFSETFROM:-0600
TZOFFSETTO:-0500
RDATE:20270314T020000
END:DAYLIGHT
END:VTIMEZONE
BEGIN:VEVENT
UID:20250729T000000UTC-2387V3sxZd@https://taneycountyrepublicans.org/
DTSTAMP:20260420T181843Z
CATEGORIES:This Day in Missouri
DESCRIPTION:<p><span style='font-family: arial\, helvetica\, sans-serif\; f
 ont-size: 12pt\; color: #000000\;'>On July 29\, the following notable hist
 orical events related to Missouri have been recorded:</span></p>\n<ul>\n<l
 i><span style='font-family: arial\, helvetica\, sans-serif\; font-size: 12
 pt\; color: #000000\;'>1804: The Lewis and Clark Expedition\, navigating t
 he Missouri River\, was near present-day Otoe County\, Nebraska\, across f
 rom Missouri’s Atchison County\, on or around July 29. They continued thei
 r council with Otoe and Missouri tribes\, documenting cultural exchanges a
 nd the region’s resources\, advancing their exploration of the Louisiana P
 urchase.</span></li>\n<li><span style='font-family: arial\, helvetica\, sa
 ns-serif\; font-size: 12pt\; color: #000000\;'>1838: During the Mormon War
  in Missouri\, tensions escalated further. On or around July 29\, non-Morm
 on vigilantes in Daviess County intensified their campaign against Mormon 
 settlers\, with skirmishes and threats contributing to the conflict that l
 ed to the Mormon expulsion order later in 1838.</span></li>\n<li><span sty
 le='font-family: arial\, helvetica\, sans-serif\; font-size: 12pt\; color:
  #000000\;'>1861: During the Civil War\, Missouri remained a battleground.
  On July 29\, Union forces under General Nathaniel Lyon were engaged in mi
 nor skirmishes in southwest Missouri near Springfield\, part of their prep
 arations for the Battle of Wilson’s Creek.</span></li>\n<li><span style='f
 ont-family: arial\, helvetica\, sans-serif\; font-size: 12pt\; color: #000
 000\;'>1870: The St. Louis\, Iron Mountain\, and Southern Railway complete
 d a significant expansion through southeast Missouri around July 29\, impr
 oving transportation to areas like Cape Girardeau and fostering economic g
 rowth.</span></li>\n<li><span style='font-family: arial\, helvetica\, sans
 -serif\; font-size: 12pt\; color: #000000\;'>1904: The St. Louis World’s F
 air\, or Louisiana Purchase Exposition\, was ongoing\, with July 29 featur
 ing international trade exhibits and cultural performances\, reinforcing M
 issouri’s prominence as a global hub.</span></li>\n<li><span style='font-f
 amily: arial\, helvetica\, sans-serif\; font-size: 12pt\; color: #000000\;
 '>1954: The St. Louis Cardinals played a notable game against the Brooklyn
  Dodgers at Busch Stadium\, with Stan Musial hitting a walk-off home run\,
  contributing to the team’s legacy and Missouri’s baseball prominence.</sp
 an></li>\n</ul>
DTSTART;TZID=America/Chicago:20250729T000000
DTEND;TZID=America/Chicago:20250729T235959
RRULE:FREQ=YEARLY;COUNT=3;INTERVAL=1
SUMMARY:July 29th This Day in Missouri
URL:https://www.taneycountyrepublicans.org.patriotsaroundthelake.com/odds-n
 -ends/this-week-in-missouri/24-this-day-in-missouri/1744-july-29th-this-da
 y-in-missouri.html
X-ALT-DESC;FMTTYPE=TEXT/HTML:<p><span style='font-family: arial\, helvetica
 \, sans-serif\; font-size: 12pt\; color: #000000\;'>On July 29\, the follo
 wing notable historical events related to Missouri have been recorded:</sp
 an></p>\n<ul>\n<li><span style='font-family: arial\, helvetica\, sans-seri
 f\; font-size: 12pt\; color: #000000\;'>1804: The Lewis and Clark Expediti
 on\, navigating the Missouri River\, was near present-day Otoe County\, Ne
 braska\, across from Missouri’s Atchison County\, on or around July 29. Th
 ey continued their council with Otoe and Missouri tribes\, documenting cul
 tural exchanges and the region’s resources\, advancing their exploration o
 f the Louisiana Purchase.</span></li>\n<li><span style='font-family: arial
 \, helvetica\, sans-serif\; font-size: 12pt\; color: #000000\;'>1838: Duri
 ng the Mormon War in Missouri\, tensions escalated further. On or around J
 uly 29\, non-Mormon vigilantes in Daviess County intensified their campaig
 n against Mormon settlers\, with skirmishes and threats contributing to th
 e conflict that led to the Mormon expulsion order later in 1838.</span></l
 i>\n<li><span style='font-family: arial\, helvetica\, sans-serif\; font-si
 ze: 12pt\; color: #000000\;'>1861: During the Civil War\, Missouri remaine
 d a battleground. On July 29\, Union forces under General Nathaniel Lyon w
 ere engaged in minor skirmishes in southwest Missouri near Springfield\, p
 art of their preparations for the Battle of Wilson’s Creek.</span></li>\n<
 li><span style='font-family: arial\, helvetica\, sans-serif\; font-size: 1
 2pt\; color: #000000\;'>1870: The St. Louis\, Iron Mountain\, and Southern
  Railway completed a significant expansion through southeast Missouri arou
 nd July 29\, improving transportation to areas like Cape Girardeau and fos
 tering economic growth.</span></li>\n<li><span style='font-family: arial\,
  helvetica\, sans-serif\; font-size: 12pt\; color: #000000\;'>1904: The St
 . Louis World’s Fair\, or Louisiana Purchase Exposition\, was ongoing\, wi
 th July 29 featuring international trade exhibits and cultural performance
 s\, reinforcing Missouri’s prominence as a global hub.</span></li>\n<li><s
 pan style='font-family: arial\, helvetica\, sans-serif\; font-size: 12pt\;
  color: #000000\;'>1954: The St. Louis Cardinals played a notable game aga
 inst the Brooklyn Dodgers at Busch Stadium\, with Stan Musial hitting a wa
 lk-off home run\, contributing to the team’s legacy and Missouri’s basebal
 l prominence.</span></li>\n</ul>
END:VEVENT
END:VCALENDAR
