BEGIN:VCALENDAR
VERSION:2.0
PRODID:-//https://www.taneycountyrepublicans.org.patriotsaroundthelake.com//NONSGML kigkonsult.se iCalcreator 2.41.71//
CALSCALE:GREGORIAN
METHOD:PUBLISH
UID:33366666-3838-4134-a335-623763396431
X-WR-CALNAME:JCal Pro Calendar
X-WR-CALDESC:Your online events calendar
X-WR-TIMEZONE:America/Chicago
BEGIN:VTIMEZONE
TZID:America/Chicago
TZUNTIL:20271107T070000Z
BEGIN:STANDARD
TZNAME:CST
DTSTART:20251102T020000
TZOFFSETFROM:-0500
TZOFFSETTO:-0600
RDATE:20261101T020000
END:STANDARD
BEGIN:DAYLIGHT
TZNAME:CDT
DTSTART:20260308T020000
TZOFFSETFROM:-0600
TZOFFSETTO:-0500
RDATE:20270314T020000
END:DAYLIGHT
END:VTIMEZONE
BEGIN:VEVENT
UID:20250713T100000UTC-0683NPFSRF@https://taneycountyrepublicans.org/
DTSTAMP:20260421T103029Z
CATEGORIES:This Day in Missouri
DESCRIPTION:<p><span style='font-family: arial\, helvetica\, sans-serif\; f
 ont-size: 12pt\; color: #000000\;'>On July 13\, the following notable hist
 orical events related to Missouri have been recorded:</span></p>\n<ul>\n<l
 i><span style='font-family: arial\, helvetica\, sans-serif\; font-size: 12
 pt\; color: #000000\;'>1804: The Lewis and Clark Expedition\, traveling al
 ong the Missouri River\, was near present-day Richardson County\, Nebraska
 \, just across from Missouri’s Atchison County\, on or around July 13. The
 y recorded detailed observations of the local environment and Native Ameri
 can tribes\, furthering their exploration of the Louisiana Purchase.</span
 ></li>\n<li><span style='font-family: arial\, helvetica\, sans-serif\; fon
 t-size: 12pt\; color: #000000\;'>1836: The Platte Purchase\, which added n
 orthwest Missouri to the state\, was in its final stages of negotiation ar
 ound July 13. This acquisition from Native American tribes\, including the
  Iowa and Sac and Fox\, expanded Missouri’s territory and opened new areas
  for settlement.</span></li>\n<li><span style='font-family: arial\, helvet
 ica\, sans-serif\; font-size: 12pt\; color: #000000\;'>1861: During the Ci
 vil War\, Missouri saw ongoing guerrilla activity. On July 13\, Union forc
 es clashed with Confederate sympathizers in small skirmishes in Boone Coun
 ty\, part of the broader struggle for control in the state leading up to t
 he Battle of Wilson’s Creek.</span></li>\n<li><span style='font-family: ar
 ial\, helvetica\, sans-serif\; font-size: 12pt\; color: #000000\;'>1878: T
 he St. Louis-based Anheuser-Busch brewery achieved a milestone around July
  13 by perfecting its pasteurization process for Budweiser\, enabling wide
 r distribution and solidifying Missouri’s role in the national brewing ind
 ustry.</span></li>\n<li><span style='font-family: arial\, helvetica\, sans
 -serif\; font-size: 12pt\; color: #000000\;'>1923: The Missouri State High
 way System was officially established around July 13\, with the creation o
 f Route 66 (later iconic) connecting St. Louis and Joplin\, boosting trans
 portation and economic growth across the state.</span></li>\n</ul>
DTSTART;TZID=America/Chicago:20250713T000000
DTEND;TZID=America/Chicago:20250713T235959
RRULE:FREQ=YEARLY;COUNT=3;INTERVAL=1
SUMMARY:July 13th This Day in Missouri
URL:https://www.taneycountyrepublicans.org.patriotsaroundthelake.com/odds-n
 -ends/this-week-in-missouri/24-this-day-in-missouri/1693-july-13th-this-da
 y-in-missouri.html
X-ALT-DESC;FMTTYPE=TEXT/HTML:<p><span style='font-family: arial\, helvetica
 \, sans-serif\; font-size: 12pt\; color: #000000\;'>On July 13\, the follo
 wing notable historical events related to Missouri have been recorded:</sp
 an></p>\n<ul>\n<li><span style='font-family: arial\, helvetica\, sans-seri
 f\; font-size: 12pt\; color: #000000\;'>1804: The Lewis and Clark Expediti
 on\, traveling along the Missouri River\, was near present-day Richardson 
 County\, Nebraska\, just across from Missouri’s Atchison County\, on or ar
 ound July 13. They recorded detailed observations of the local environment
  and Native American tribes\, furthering their exploration of the Louisian
 a Purchase.</span></li>\n<li><span style='font-family: arial\, helvetica\,
  sans-serif\; font-size: 12pt\; color: #000000\;'>1836: The Platte Purchas
 e\, which added northwest Missouri to the state\, was in its final stages 
 of negotiation around July 13. This acquisition from Native American tribe
 s\, including the Iowa and Sac and Fox\, expanded Missouri’s territory and
  opened new areas for settlement.</span></li>\n<li><span style='font-famil
 y: arial\, helvetica\, sans-serif\; font-size: 12pt\; color: #000000\;'>18
 61: During the Civil War\, Missouri saw ongoing guerrilla activity. On Jul
 y 13\, Union forces clashed with Confederate sympathizers in small skirmis
 hes in Boone County\, part of the broader struggle for control in the stat
 e leading up to the Battle of Wilson’s Creek.</span></li>\n<li><span style
 ='font-family: arial\, helvetica\, sans-serif\; font-size: 12pt\; color: #
 000000\;'>1878: The St. Louis-based Anheuser-Busch brewery achieved a mile
 stone around July 13 by perfecting its pasteurization process for Budweise
 r\, enabling wider distribution and solidifying Missouri’s role in the nat
 ional brewing industry.</span></li>\n<li><span style='font-family: arial\,
  helvetica\, sans-serif\; font-size: 12pt\; color: #000000\;'>1923: The Mi
 ssouri State Highway System was officially established around July 13\, wi
 th the creation of Route 66 (later iconic) connecting St. Louis and Joplin
 \, boosting transportation and economic growth across the state.</span></l
 i>\n</ul>
END:VEVENT
END:VCALENDAR
