BEGIN:VCALENDAR
VERSION:2.0
PRODID:-//https://www.taneycountyrepublicans.org.patriotsaroundthelake.com//NONSGML kigkonsult.se iCalcreator 2.41.71//
CALSCALE:GREGORIAN
METHOD:PUBLISH
UID:66633737-3331-4765-b664-396634653764
X-WR-CALNAME:JCal Pro Calendar
X-WR-CALDESC:Your online events calendar
X-WR-TIMEZONE:America/Chicago
BEGIN:VTIMEZONE
TZID:America/Chicago
TZUNTIL:20271107T070000Z
BEGIN:STANDARD
TZNAME:CST
DTSTART:20251102T020000
TZOFFSETFROM:-0500
TZOFFSETTO:-0600
RDATE:20261101T020000
END:STANDARD
BEGIN:DAYLIGHT
TZNAME:CDT
DTSTART:20260308T020000
TZOFFSETFROM:-0600
TZOFFSETTO:-0500
RDATE:20270314T020000
END:DAYLIGHT
END:VTIMEZONE
BEGIN:VEVENT
UID:20250117T120000UTC-3764ANFELv@https://taneycountyrepublicans.org/
DTSTAMP:20260420T120744Z
CATEGORIES:Taney County Republicans - Branson Meetings
CATEGORIES:Branson Events
DESCRIPTION:<p>We meet at the <a href='https://bransongoldencorral.com/'>Go
 lden Coral in Branson</a> every 3rd Friday of the month.</p>\n<p>&nbsp\;</
 p>\n<p>Location: <a href='https://bransongoldencorral.com/'>3551 Shepherd 
 Of The Hills Expressway\, Branson\, MO 65616</a></p>\n<p>&nbsp\;</p>\n<p>C
 ontact: <joomla-hidden-mail  is-link='1' is-email='1' first='dGFuZXljb3Vud
 HlyZXB1YmxpY2Fucw==' last='Z21haWwuY29t' text='dGFuZXljb3VudHlyZXB1YmxpY2F
 uc0BnbWFpbC5jb20=' base='' >This email address is being protected from spa
 mbots. You need JavaScript enabled to view it.</joomla-hidden-mail></p>\n<
 p>&nbsp\;</p>\n<div>Hello Members and Friends\,</div>\n<div>&nbsp\;</div>
 \n<div>We are proud to have Donna McConkey\, Program Director for Elevate 
 Branson Workforce program along with Keith Moore\, US Exterior Maintenance
 &nbsp\;&amp\; Repair\, discuss the workforce program assisting folks in le
 arning labor skills needed in today's shifting economy.</div>\n<div>&nbsp\
 ;</div>\n<div>Programs like this are essential to the Republican Party con
 sidering we would like folks 'down on their luck' back in the workforce in
 stead of receiving government benefits.</div>\n<div>&nbsp\;</div>\n<div>We
  hope you will all attend and learn more about this exciting and essential
  program happening in our&nbsp\;community.</div>\n<div>&nbsp\;</div>\n<div
 >Any government official or future candidate&nbsp\;that would like to spea
 k once the speakers are finished would be most welcome to do so.</div>\n<d
 iv><br />\n<div>Thank you for your support\,</div>\n<div>\n<div class='gma
 il_signature' dir='ltr' data-smartmail='gmail_signature'>\n<div dir='ltr'>
 \n<div>Taney County Republicans</div>\n</div>\n</div>\n</div>\n</div>\n<p 
 style='text-align: center\;'>{module title='Map to Branson Golden Corral'}
 </p>\n<p>&nbsp\;</p>\n<p>&nbsp\;</p>\n<p>&nbsp\;</p>\n<p>&nbsp\;</p>
DTSTART;TZID=America/Chicago:20250815T120000
DTEND;TZID=America/Chicago:20250815T130000
SUMMARY:Taney County Republicans Meeting - Branson
URL:https://www.taneycountyrepublicans.org.patriotsaroundthelake.com/events
 -calendar/22-taney-county-republicans-branson-meetings/1588-taney-county-r
 epublicans-meeting-branson.html
X-ALT-DESC;FMTTYPE=TEXT/HTML:<p>We meet at the <a href='https://bransongold
 encorral.com/'>Golden Coral in Branson</a> every 3rd Friday of the month.<
 /p>\n<p>&nbsp\;</p>\n<p>Location: <a href='https://bransongoldencorral.com
 /'>3551 Shepherd Of The Hills Expressway\, Branson\, MO 65616</a></p>\n<p>
 &nbsp\;</p>\n<p>Contact: <joomla-hidden-mail  is-link='1' is-email='1' fir
 st='dGFuZXljb3VudHlyZXB1YmxpY2Fucw==' last='Z21haWwuY29t' text='dGFuZXljb3
 VudHlyZXB1YmxpY2Fuc0BnbWFpbC5jb20=' base='' >This email address is being p
 rotected from spambots. You need JavaScript enabled to view it.</joomla-hi
 dden-mail></p>\n<p>&nbsp\;</p>\n<div>Hello Members and Friends\,</div>\n<d
 iv>&nbsp\;</div>\n<div>We are proud to have Donna McConkey\, Program Direc
 tor for Elevate Branson Workforce program along with Keith Moore\, US Exte
 rior Maintenance&nbsp\;&amp\; Repair\, discuss the workforce program assis
 ting folks in learning labor skills needed in today's shifting economy.</d
 iv>\n<div>&nbsp\;</div>\n<div>Programs like this are essential to the Repu
 blican Party considering we would like folks 'down on their luck' back in 
 the workforce instead of receiving government benefits.</div>\n<div>&nbsp\
 ;</div>\n<div>We hope you will all attend and learn more about this exciti
 ng and essential program happening in our&nbsp\;community.</div>\n<div>&nb
 sp\;</div>\n<div>Any government official or future candidate&nbsp\;that wo
 uld like to speak once the speakers are finished would be most welcome to 
 do so.</div>\n<div><br />\n<div>Thank you for your support\,</div>\n<div>
 \n<div class='gmail_signature' dir='ltr' data-smartmail='gmail_signature'>
 \n<div dir='ltr'>\n<div>Taney County Republicans</div>\n</div>\n</div>\n</
 div>\n</div>\n<p style='text-align: center\;'>{module title='Map to Branso
 n Golden Corral'}</p>\n<p>&nbsp\;</p>\n<p>&nbsp\;</p>\n<p>&nbsp\;</p>\n<p>
 &nbsp\;</p>
END:VEVENT
END:VCALENDAR
